BEGIN:VCALENDAR
VERSION:2.0
PRODID:-//Octubre Centre de Cultura Contemporània - ECPv5.1.6//NONSGML v1.0//EN
CALSCALE:GREGORIAN
METHOD:PUBLISH
X-WR-CALNAME:Octubre Centre de Cultura Contemporània
X-ORIGINAL-URL:https://octubre.cat
X-WR-CALDESC:Events for Octubre Centre de Cultura Contemporània
BEGIN:VTIMEZONE
TZID:Europe/Andorra
BEGIN:DAYLIGHT
TZOFFSETFROM:+0100
TZOFFSETTO:+0200
TZNAME:CEST
DTSTART:20190331T010000
END:DAYLIGHT
BEGIN:STANDARD
TZOFFSETFROM:+0200
TZOFFSETTO:+0100
TZNAME:CET
DTSTART:20191027T010000
END:STANDARD
END:VTIMEZONE
BEGIN:VEVENT
DTSTART;TZID=Europe/Andorra:20191114T190000
DTEND;TZID=Europe/Andorra:20191114T190000
DTSTAMP:20260425T163702
CREATED:20200729T173558Z
LAST-MODIFIED:20200729T191250Z
UID:11565-1573758000-1573758000@octubre.cat
SUMMARY:Presentació del llibre "Diaris de bord"\, de Iorgos Seferis
DESCRIPTION:Dijous 14 de novembre a les 19.00h. A càrrec del seu traductor\, Joan Calabuig.	 \n  \n  \n\n 	 A càrrec del seu traductor\, Joan Calabuig.  Dividits en tres parts i publicats separadament a l’origen (el 1940\, el 1944 i el 1955)\, els Diaris de bord constitueixen un prodigiós itinerari poètic que ens permet conèixer la complexa condició de l’expatriat i la seva particular visió d’una de les èpoques més atziagues de la història recent. La metàfora de la navegació suggerida pel títol serveix a l’autor per recórrer els principals esdeveniments del seu temps i del seu poble: la dictadura militar en vigílies de la Segona Guerra Mundial\, el dolor de l’exili durant l’ocupació nazi de Grècia\, i el difícil procés de descolonització de Xipre. Aquest llibre és indubtablement una mostra excel·lent de la millor poesia del segle XX.  (Adesiara)
URL:https://octubre.cat/activitat/presentacio-del-llibre-diaris-de-bord-de-iorgos-seferis/
LOCATION:Llibreria Fan Set
CATEGORIES:Literatura
ATTACH;FMTTYPE=image/jpeg:https://octubre.cat/www/wp-content/uploads/2020/07/activitat3370.jpg
END:VEVENT
END:VCALENDAR