BEGIN:VCALENDAR
VERSION:2.0
PRODID:-//Octubre Centre de Cultura Contemporània - ECPv5.1.6//NONSGML v1.0//EN
CALSCALE:GREGORIAN
METHOD:PUBLISH
X-WR-CALNAME:Octubre Centre de Cultura Contemporània
X-ORIGINAL-URL:https://octubre.cat
X-WR-CALDESC:Events for Octubre Centre de Cultura Contemporània
BEGIN:VTIMEZONE
TZID:Europe/Andorra
BEGIN:DAYLIGHT
TZOFFSETFROM:+0100
TZOFFSETTO:+0200
TZNAME:CEST
DTSTART:20220327T010000
END:DAYLIGHT
BEGIN:STANDARD
TZOFFSETFROM:+0200
TZOFFSETTO:+0100
TZNAME:CET
DTSTART:20221030T010000
END:STANDARD
END:VTIMEZONE
BEGIN:VEVENT
DTSTART;TZID=Europe/Andorra:20220325T190000
DTEND;TZID=Europe/Andorra:20220325T190000
DTSTAMP:20260421T210716
CREATED:20220223T073403Z
LAST-MODIFIED:20250629T103033Z
UID:17919-1648234800-1648234800@octubre.cat
SUMMARY:Presentació del llibre Diari 1952-1960\, de Joan Fuster
DESCRIPTION:Amb Ferran Garcia-Oliver i Enric Iborra. \nEl Diari 1952-1960 és\, probablement\, el màxim exponent de l’assagisme literari de Joan Fuster i la millor porta d’entrada a la seva obra. Concebut no pròpiament com un dietari íntim\, sinó com un espai en què pot desenvolupar la seva literatura d’idees\, l’estructura flexible i fragmentària d’aquest llibre respon justament a la tensió entre aquests dos elements bàsics: assagisme i dietarisme. \nAl llarg d’aquestes pàgines es pot trobar el Fuster més incisiu\, irònic i intel·ligent: el que s’interroga\, s’assaja\, fa provatures de resposta i suscita nous interrogants a qüestions enormement variades: de crítica literària a la concepció del paisatge\, de notes sobre art o música a reflexions sobre la figura de l’intel·lectual europeu\, d’indagacions sobre el concepte de nacionalisme a la interrogació sobre qualsevol element de la vida quotidiana. Tot plegat\, doncs\, fa del Diari 1952-1960 una obra fonamental de l’assagisme català contemporani. \n  \n \n(Edicions Tres i Quatre)
URL:https://octubre.cat/activitat/presentacio-del-llibre-diari-1952-1960-de-joan-fuster/
LOCATION:Llibreria Fan Set
CATEGORIES:Any Joan Fuster 2022,Literatura
ATTACH;FMTTYPE=image/jpeg:https://octubre.cat/www/wp-content/uploads/2022/02/fuster_j_0152.jpg
END:VEVENT
END:VCALENDAR