BEGIN:VCALENDAR
VERSION:2.0
PRODID:-//Octubre Centre de Cultura Contemporània - ECPv5.1.6//NONSGML v1.0//EN
CALSCALE:GREGORIAN
METHOD:PUBLISH
X-WR-CALNAME:Octubre Centre de Cultura Contemporània
X-ORIGINAL-URL:https://octubre.cat
X-WR-CALDESC:Events for Octubre Centre de Cultura Contemporània
BEGIN:VTIMEZONE
TZID:Europe/Andorra
BEGIN:DAYLIGHT
TZOFFSETFROM:+0100
TZOFFSETTO:+0200
TZNAME:CEST
DTSTART:20190331T010000
END:DAYLIGHT
BEGIN:STANDARD
TZOFFSETFROM:+0200
TZOFFSETTO:+0100
TZNAME:CET
DTSTART:20191027T010000
END:STANDARD
END:VTIMEZONE
BEGIN:VEVENT
DTSTART;TZID=Europe/Andorra:20190509T190000
DTEND;TZID=Europe/Andorra:20190509T190000
DTSTAMP:20260425T162454
CREATED:20200729T173345Z
LAST-MODIFIED:20200729T191121Z
UID:11413-1557428400-1557428400@octubre.cat
SUMMARY:Presentació del llibre "Després del procés\, què?"
DESCRIPTION:Dijous 9 de maig a les 19.00h.	 \n  \n  \n\n 	 Reflexions de la generació que ve. Pròleg de Jordi Cuixart. Epíleg de Valtònyc.  En el llibre s’hi ajunten tan reflexions generals com sectorials sobre\, per exemple\, les relacions entre independentisme i moviments socials\, els reptes del feminisme republicà\, la gestió de la repressió de l’Estat o les oportunitats per bastir un sindicalisme nacionalment autocentrat. La característica comuna de totes elles és la voluntat de tractar de manera concreta problemàtiques candents i debats irresolts de l’independentisme\, tenint com a guia principal la voluntat de mirar més al futur que al passat\, és a dir\, de proposar més que criticar. Ara tot just comença l’hora de la generació que ha crescut políticament durant el procés\, que només ha fet política “en procés”. D’una generació\, per tant\, que tot i recordar el fangar de l’autonomisme\, ha crescut amb la perspectiva de la independència a tocar. Que no s’equivoquin\, que això només ha fet que començar.  (Pagès Editor)
URL:https://octubre.cat/activitat/presentacio-del-llibre-despres-del-proces-que/
CATEGORIES:Literatura
ATTACH;FMTTYPE=image/jpeg:https://octubre.cat/www/wp-content/uploads/2020/07/activitat3258.jpg
END:VEVENT
END:VCALENDAR