BEGIN:VCALENDAR
VERSION:2.0
PRODID:-//Octubre Centre de Cultura Contemporània - ECPv5.1.6//NONSGML v1.0//EN
CALSCALE:GREGORIAN
METHOD:PUBLISH
X-WR-CALNAME:Octubre Centre de Cultura Contemporània
X-ORIGINAL-URL:https://octubre.cat
X-WR-CALDESC:Events for Octubre Centre de Cultura Contemporània
BEGIN:VTIMEZONE
TZID:Europe/Andorra
BEGIN:DAYLIGHT
TZOFFSETFROM:+0100
TZOFFSETTO:+0200
TZNAME:CEST
DTSTART:20200329T010000
END:DAYLIGHT
BEGIN:STANDARD
TZOFFSETFROM:+0200
TZOFFSETTO:+0100
TZNAME:CET
DTSTART:20201025T010000
END:STANDARD
END:VTIMEZONE
BEGIN:VEVENT
DTSTART;TZID=Europe/Andorra:20200206T190000
DTEND;TZID=Europe/Andorra:20200206T190000
DTSTAMP:20260421T072443
CREATED:20200729T191336Z
LAST-MODIFIED:20200729T191336Z
UID:13685-1581015600-1581015600@octubre.cat
SUMMARY:Presentació del llibre "Desoris endreçats"\, d'Antoni Cardona
DESCRIPTION:Dijous 6 de febrer a les 19.00h. Amb l’autor acompanyat per Maria Conca.	 \n  \n  \n\n 	 Amb l’autor acompanyat per Maria Conca.  En aquest llibre de relats hi trobareu personatges\, alguns de quotidians i d’altres que difícilment els veuríeu caminant pel carrer. Personatges que sofreixen\, de vegades en el més absolut silenci o potser sense ser del tot conscients del seu dolor\, i que tenen molt diverses maneres d’enfrontar-s’hi: amb displicència\, amb ironia\, fent un canvi vital\, desesperant-se\, o fins i tot acomodant-se a l’infortuni. N’hi ha que se senten atrets pel perill i s’hi aboquen una i una altra vegada. Però també hi trobareu personatges que fan sofrir\, de vegades cruelment\, sigui fet amb agressió física explícita\, amb menyspreu envers els altres o amb una subtil sobreprotecció.  (Voliana)
URL:https://octubre.cat/activitat/presentacio-del-llibre-desoris-endrecats-dantoni-cardona/
LOCATION:Llibreria Fan Set
CATEGORIES:Literatura
ATTACH;FMTTYPE=image/jpeg:https://octubre.cat/www/wp-content/uploads/2020/07/activitat3426.jpg
END:VEVENT
END:VCALENDAR