BEGIN:VCALENDAR
VERSION:2.0
PRODID:-//Octubre Centre de Cultura Contemporània - ECPv5.1.6//NONSGML v1.0//EN
CALSCALE:GREGORIAN
METHOD:PUBLISH
X-WR-CALNAME:Octubre Centre de Cultura Contemporània
X-ORIGINAL-URL:https://octubre.cat
X-WR-CALDESC:Events for Octubre Centre de Cultura Contemporània
BEGIN:VTIMEZONE
TZID:Europe/Andorra
BEGIN:DAYLIGHT
TZOFFSETFROM:+0100
TZOFFSETTO:+0200
TZNAME:CEST
DTSTART:20170326T010000
END:DAYLIGHT
BEGIN:STANDARD
TZOFFSETFROM:+0200
TZOFFSETTO:+0100
TZNAME:CET
DTSTART:20171029T010000
END:STANDARD
END:VTIMEZONE
BEGIN:VEVENT
DTSTART;TZID=Europe/Andorra:20170517T190000
DTEND;TZID=Europe/Andorra:20170517T190000
DTSTAMP:20260421T144504
CREATED:20200729T172558Z
LAST-MODIFIED:20200729T185826Z
UID:11137-1495047600-1495047600@octubre.cat
SUMMARY:Presentació del llibre 'Des del Sud fins al Nord\, una llàgrima parla'\, de Teresa Montagut
DESCRIPTION:Dimecres 17 de maig a les 19.00h i a la llibreria Fan Set.  \n  \n  \n\n Des del Sud fins al Nord\, una llàgrima parla tracta de mostrar el món patriarcal en què vivim\, des del sud fins al nord; i ho fa mostrant tota la brutalitat vers la dona que es practica en l’hemisferi sud\, amb temes tan injuriats com l’ablació\, les noces de xiquetes amb homes grans\, la lapidació\, però també hi ha poemes on s’increpa la dona perquè es rebel·le\, s’enfortisca i no es mostre submisa\, com ho fan els poemes “Africanes”\, “Malala”\, els dedicats a les dones de Ciudad Juárez\, a la traginera del Marroc\, etc. Un món cruel on la dona és una simple supervivent.  Però\, i el nord? El nord no és menys patriarcal\, com mostra el poemari\, però és subtil\, té maneres sibil·lines d’actuar contra la dona pel patriarcat\, i en trobem massa mostres al nostre entorn: els assassinats\, el prototipus de dona\, l’assetjament\, els models establerts\, l’amor egoista\, la família segons el model patriarcal\, etc.  Moltes llàgrimes parlen per les dones al món\, i aquest poemari vol ser un revulsiu\, un espill que ens mostre els problemes del món patriarcal i la seua superació mitjançant l’amor a les persones i al món\, tant a l’hemisferi sud com al nord.  (Onada Edicions)
URL:https://octubre.cat/activitat/presentacio-del-llibre-des-del-sud-fins-al-nord-una-llagrima-parla-de-teresa-montagut/
LOCATION:Llibreria Fan Set
CATEGORIES:Literatura
ATTACH;FMTTYPE=image/jpeg:https://octubre.cat/www/wp-content/uploads/2020/07/activitat2828.jpg
END:VEVENT
END:VCALENDAR