BEGIN:VCALENDAR
VERSION:2.0
PRODID:-//Octubre Centre de Cultura Contemporània - ECPv5.1.6//NONSGML v1.0//EN
CALSCALE:GREGORIAN
METHOD:PUBLISH
X-WR-CALNAME:Octubre Centre de Cultura Contemporània
X-ORIGINAL-URL:https://octubre.cat
X-WR-CALDESC:Events for Octubre Centre de Cultura Contemporània
BEGIN:VTIMEZONE
TZID:Europe/Andorra
BEGIN:DAYLIGHT
TZOFFSETFROM:+0100
TZOFFSETTO:+0200
TZNAME:CEST
DTSTART:20140330T010000
END:DAYLIGHT
BEGIN:STANDARD
TZOFFSETFROM:+0200
TZOFFSETTO:+0100
TZNAME:CET
DTSTART:20141026T010000
END:STANDARD
END:VTIMEZONE
BEGIN:VEVENT
DTSTART;TZID=Europe/Andorra:20140214T193000
DTEND;TZID=Europe/Andorra:20140214T193000
DTSTAMP:20260421T072647
CREATED:20200729T170335Z
LAST-MODIFIED:20200729T184349Z
UID:9704-1392406200-1392406200@octubre.cat
SUMMARY:Presentació del llibre 'Des del sud del silenci'\, de Rafael Casanova
DESCRIPTION:Divendres 14 de febrer a les 19.30h. Amb l’autor\, Carles Gorbs i Albert Garcia  \n  \n  \n\n Gorbs Edicions  A càrrec de Carles Gorbs (periodista i editor) i Albert Garcia (poeta)  Rafael Casanova i Estruch (València 1966) és llicenciat en Filologia Catalana per la Universitat Literària de València. Treballa com a professor de Llengua i Literatura Catalana en l’IES Serra Perenxisa\, de Torrent. L’any 2002 va publicar El llarg estret. L’any 2003 va guanyar el Premi de Poesia Gata de Gorgos amb Espai fugaç. L’any 2006 va guanyar el Premi de Poesia Jaume Bru i Vidal de Ciutat de Sagunt\, amb el poemari Xarxes de sol. L’any 2008\, amb La solitud poblada\, va rebre el premi Senyoriu d’Ausiàs March\, de Beniarjó. Va obtindre el Premi de Poesia Miquel Martí i Pol 1999\, de Roda de Ter\, amb Baranes a la nit\, el qual resta inèdit.
URL:https://octubre.cat/activitat/presentacio-del-llibre-des-del-sud-del-silenci-de-rafael-casanova/
CATEGORIES:Literatura
ATTACH;FMTTYPE=image/jpeg:https://octubre.cat/www/wp-content/uploads/2020/07/activitat1996.jpg
END:VEVENT
END:VCALENDAR