BEGIN:VCALENDAR
VERSION:2.0
PRODID:-//Octubre Centre de Cultura Contemporània - ECPv5.1.6//NONSGML v1.0//EN
CALSCALE:GREGORIAN
METHOD:PUBLISH
X-WR-CALNAME:Octubre Centre de Cultura Contemporània
X-ORIGINAL-URL:https://octubre.cat
X-WR-CALDESC:Events for Octubre Centre de Cultura Contemporània
BEGIN:VTIMEZONE
TZID:Europe/Andorra
BEGIN:DAYLIGHT
TZOFFSETFROM:+0100
TZOFFSETTO:+0200
TZNAME:CEST
DTSTART:20110327T010000
END:DAYLIGHT
BEGIN:STANDARD
TZOFFSETFROM:+0200
TZOFFSETTO:+0100
TZNAME:CET
DTSTART:20111030T010000
END:STANDARD
END:VTIMEZONE
BEGIN:VEVENT
DTSTART;TZID=Europe/Andorra:20111116T190000
DTEND;TZID=Europe/Andorra:20111116T190000
DTSTAMP:20260421T215353
CREATED:20200729T165621Z
LAST-MODIFIED:20200730T042901Z
UID:9285-1321470000-1321470000@octubre.cat
SUMMARY:Presentació del llibre “Des del rovellet de l’ou d’Elx” de Joan-Carles Martí i Casanova
DESCRIPTION:Dimecres 16 de novembre a les 19.00h\, presentació del llibre “Des del rovellet de l’ou d’Elx” de Joan-Carles Martí i Casanova  \n  \n  \n\nPresenten: Francesc Mompó i Valls\, Eugeni S. Reig i Joan-Carles Martí i Casanova  Des del Rovellet de l’Ou d’Elx (Voliana Edicions) són vint-i-tres escrits en els quals es reflexiona sobre la gran ciutat a la fita sud de la catalanitat cultural. El rovellet de l’ou és la denominació  tradicional del centre històric d’Elx. Es reflexiona sobre el Misteri d’Elx\, el model lingüístic valencià\, la riquesa del català de la frontera sud\, la història\, uns elxans il·lustres\, alguns oblidats a casa; i les relacions sempre complicades amb Alacant i València. Ens apropa el seu petit gran país d’una vitalitat lingüística amagada\, insospitada i menystinguda nord enllà de la línia Biar-Busot. Ens retrata alguns dels personatges que feren possible la represa lingüística de l’Extrem Sud del País Valencià a la segona meitat del segle XX.  Pel camí que s’enfila tramuntana amunt un elxà és cridat a fer conèixer la seva terra per tots els Països Catalans: al Segura\, al Vinalopó\, a Alacant\, a Otos a la Vall d’Albaida\, a València\, el cap-i-casal dels valencians\, a Tortosa\, a Barcelona\, la capitalitat cultural de tots els catalanoparlants\, a Girona\, a Mallorca fins arribar a Quilhan\, Tolosa\, Marselha o Ate\, en terres occitanes on va nàixer un elxà que va tornar enjorn al bres\, perquè s’han d’estretir els llaços entre els pobles de llengua catalana i de llengua occitana que conformen una civilització original bessona.
URL:https://octubre.cat/activitat/presentacio-del-llibre-des-del-rovellet-de-lou-delx-de-joan-carles-marti-i-casanova/
LOCATION:No definit
CATEGORIES:Literatura
ATTACH;FMTTYPE=image/jpeg:https://octubre.cat/www/wp-content/uploads/2020/07/activitat1517.jpg
END:VEVENT
END:VCALENDAR