BEGIN:VCALENDAR
VERSION:2.0
PRODID:-//Octubre Centre de Cultura Contemporània - ECPv5.1.6//NONSGML v1.0//EN
CALSCALE:GREGORIAN
METHOD:PUBLISH
X-WR-CALNAME:Octubre Centre de Cultura Contemporània
X-ORIGINAL-URL:https://octubre.cat
X-WR-CALDESC:Events for Octubre Centre de Cultura Contemporània
BEGIN:VTIMEZONE
TZID:Europe/Andorra
BEGIN:DAYLIGHT
TZOFFSETFROM:+0100
TZOFFSETTO:+0200
TZNAME:CEST
DTSTART:20250330T010000
END:DAYLIGHT
BEGIN:STANDARD
TZOFFSETFROM:+0200
TZOFFSETTO:+0100
TZNAME:CET
DTSTART:20251026T010000
END:STANDARD
END:VTIMEZONE
BEGIN:VEVENT
DTSTART;TZID=Europe/Andorra:20250116T190000
DTEND;TZID=Europe/Andorra:20250116T190000
DTSTAMP:20260420T145704
CREATED:20250108T163327Z
LAST-MODIFIED:20250108T163327Z
UID:22150-1737054000-1737054000@octubre.cat
SUMMARY:Presentació del llibre Del valencianismo antifranquista a la izquierda radical\, de Vicent Álvarez
DESCRIPTION:Amb l’autor acompanyat per Josepa Cucó (catedràtica de la Universitat de València) i Quique Olmos (editor). \n«La meua generació va néixer i va créixer en dictadura\, va somniar amb una revolució poc definida o impossible\, vam lluitar i vam arribar a aquella transició\, que des de la meua perspectiva es va quedar curta quant a conquesta i expectatives. Ara. En escriure aquestes pàgines després d’haver publicat ja d’altres escrits\, m’he decidit a fer una versió de les meues vivències en la llengua majoritària de l’Estat» \n  \n \n(NPQ editores)
URL:https://octubre.cat/activitat/presentacio-del-llibre-del-valencianismo-antifranquista-a-la-izquierda-radical-de-vicent-alvarez/
LOCATION:Llibreria Fan Set
CATEGORIES:Literatura
ATTACH;FMTTYPE=image/jpeg:https://octubre.cat/www/wp-content/uploads/2025/01/vicentalvarez-cvc_1254-min.jpg
END:VEVENT
END:VCALENDAR