BEGIN:VCALENDAR
VERSION:2.0
PRODID:-//Octubre Centre de Cultura Contemporània - ECPv5.1.6//NONSGML v1.0//EN
CALSCALE:GREGORIAN
METHOD:PUBLISH
X-WR-CALNAME:Octubre Centre de Cultura Contemporània
X-ORIGINAL-URL:https://octubre.cat
X-WR-CALDESC:Events for Octubre Centre de Cultura Contemporània
BEGIN:VTIMEZONE
TZID:Europe/Andorra
BEGIN:DAYLIGHT
TZOFFSETFROM:+0100
TZOFFSETTO:+0200
TZNAME:CEST
DTSTART:20250330T010000
END:DAYLIGHT
BEGIN:STANDARD
TZOFFSETFROM:+0200
TZOFFSETTO:+0100
TZNAME:CET
DTSTART:20251026T010000
END:STANDARD
END:VTIMEZONE
BEGIN:VEVENT
DTSTART;TZID=Europe/Andorra:20250618T180000
DTEND;TZID=Europe/Andorra:20250618T180000
DTSTAMP:20260420T231212
CREATED:20250610T143321Z
LAST-MODIFIED:20250610T143321Z
UID:22901-1750269600-1750269600@octubre.cat
SUMMARY:Presentació del llibre Deixar de ser el germà xicotet de la política\, de Carles Porcel
DESCRIPTION:Amb l’autor acompanyat per Jordi Sebastià (exeurodiputat i exalcalde de Burjassot) i Carles Esteve (diputat a les Corts Valencianes). \nEl llibre es pregunta si és possible que els partits d’esquerres\, progressistes i verds aconseguisquen una major presència en els ajuntaments i\, fins i tot\, puguen arribar a governar i determinar les polítiques municipals. El llibre\, a través d’una anàlisi basada en casos reals\, recerques científiques de psicologia social i llenguatge\, i la vasta experiència professional de Carles Porcel durant quinze anys\, demostra que sí\, que és possible. \n  \n \nPresentació organitzada per Acicom
URL:https://octubre.cat/activitat/presentacio-del-llibre-deixar-de-ser-el-germa-xicotet-de-la-politica-de-carles-porcel/
LOCATION:Aula 1
CATEGORIES:Conferències i congressos
ATTACH;FMTTYPE=image/jpeg:https://octubre.cat/www/wp-content/uploads/2025/06/carles-porcel.jpg
END:VEVENT
END:VCALENDAR