BEGIN:VCALENDAR
VERSION:2.0
PRODID:-//Octubre Centre de Cultura Contemporània - ECPv5.1.6//NONSGML v1.0//EN
CALSCALE:GREGORIAN
METHOD:PUBLISH
X-WR-CALNAME:Octubre Centre de Cultura Contemporània
X-ORIGINAL-URL:https://octubre.cat
X-WR-CALDESC:Events for Octubre Centre de Cultura Contemporània
BEGIN:VTIMEZONE
TZID:Europe/Andorra
BEGIN:DAYLIGHT
TZOFFSETFROM:+0100
TZOFFSETTO:+0200
TZNAME:CEST
DTSTART:20130331T010000
END:DAYLIGHT
BEGIN:STANDARD
TZOFFSETFROM:+0200
TZOFFSETTO:+0100
TZNAME:CET
DTSTART:20131027T010000
END:STANDARD
END:VTIMEZONE
BEGIN:VEVENT
DTSTART;TZID=Europe/Andorra:20130513T193000
DTEND;TZID=Europe/Andorra:20130513T193000
DTSTAMP:20260421T180805
CREATED:20200729T170035Z
LAST-MODIFIED:20200729T184116Z
UID:9535-1368473400-1368473400@octubre.cat
SUMMARY:Presentació del llibre 'De l'Estatut a l'autodeterminació'\, de Jaume Bosch
DESCRIPTION:Dilluns 13 de maig a les 19.30h: presentació del llibre ‘De l’Estatut a l’autodeterminació’\, de Jaume Bosch\, amb Mònica Oltra\, Pasqual Mollà i Eliseu Climent  \n  \n  \n\n Esquerra nacional\, crisi econòmica\, independència i Països Catalans Editorial Base (2013)  La presentació anirà a càrrec de l’autor\, acompanyat per Mònica Oltra\, Pasqual Mollà i Eliseu Climent.  Jaume Bosch (diputat al Parlament de Catalunya per ICV)  mira al passat per entendre millor el present\, però analitza també com pot ser el futur immediat. Defensa l’exercici del dret a l’autodeterminació com a única sortida a la situació actual i examina casos que ens poden ser d’utilitat\, com els del Quebec\, Escòcia o Puerto Rico. Exposa la tesi que la celebració o no del referèndum no és un problema jurídic\, sinó de voluntat política\, i defineix les vies per celebrar-lo. Planteja també la necessitat d’un debat seriós sobre la independència i relaciona el camí a seguir amb els perills derivats de la crisi econòmica i de la corrupció que sacseja la vida política. Introdueix també un tema políticament incorrecte\, els Països Catalans i la seva viabilitat com a projecte col·lectiu.
URL:https://octubre.cat/activitat/presentacio-del-llibre-de-lestatut-a-lautodeterminacio-de-jaume-bosch/
CATEGORIES:Literatura
ATTACH;FMTTYPE=image/jpeg:https://octubre.cat/www/wp-content/uploads/2020/07/activitat1791.jpg
END:VEVENT
END:VCALENDAR