BEGIN:VCALENDAR
VERSION:2.0
PRODID:-//Octubre Centre de Cultura Contemporània - ECPv5.1.6//NONSGML v1.0//EN
CALSCALE:GREGORIAN
METHOD:PUBLISH
X-WR-CALNAME:Octubre Centre de Cultura Contemporània
X-ORIGINAL-URL:https://octubre.cat
X-WR-CALDESC:Events for Octubre Centre de Cultura Contemporània
BEGIN:VTIMEZONE
TZID:Europe/Andorra
BEGIN:DAYLIGHT
TZOFFSETFROM:+0100
TZOFFSETTO:+0200
TZNAME:CEST
DTSTART:20190331T010000
END:DAYLIGHT
BEGIN:STANDARD
TZOFFSETFROM:+0200
TZOFFSETTO:+0100
TZNAME:CET
DTSTART:20191027T010000
END:STANDARD
END:VTIMEZONE
BEGIN:VEVENT
DTSTART;TZID=Europe/Andorra:20190307T193000
DTEND;TZID=Europe/Andorra:20190307T193000
DTSTAMP:20260423T111205
CREATED:20200729T173254Z
LAST-MODIFIED:20200729T191038Z
UID:11360-1551987000-1551987000@octubre.cat
SUMMARY:Presentació del llibre "De l'erm al verd. Crònica del canvi polític valencià"\, d’Isabel Donet i Sánchez
DESCRIPTION:Dijous 7 de març a les 19.30h. Amb l’autora acompanyada per Fabiola Meco\, Rosa Peris\, Lola Bañón i Estefania Domingo.	 \n  \n  \n\n 	 Amb l’autora acompanyada per Fabiola Meco (Podem)\, Rosa Peris (PSPV)\, la periodista Lola Bañón i l’editora\, Estefania Domingo (L’Eixam).  L’autora reflexiona sobre la història més recent\, la corrupció\, la irrupció dels nous partits\, al voltant del feminisme\, la cultura\, la llibertat d’expressió\, el mitjans públics de comunicació\, l’ofici de periodista\, la memòria històrica i la urgència de fer un gir en l’arc parlamentari valencià. En definitiva\, sobre l’esperança que nodreix la cita en les urnes en una nova primavera\, obrint un temps nou carregat d’incertesa i d’il·lusió.
URL:https://octubre.cat/activitat/presentacio-del-llibre-de-lerm-al-verd-cronica-del-canvi-politic-valencia-disabel-donet-i-sanchez/
LOCATION:Llibreria Fan Set
CATEGORIES:Literatura
ATTACH;FMTTYPE=image/jpeg:https://octubre.cat/www/wp-content/uploads/2020/07/activitat3205.jpg
END:VEVENT
END:VCALENDAR