BEGIN:VCALENDAR
VERSION:2.0
PRODID:-//Octubre Centre de Cultura Contemporània - ECPv5.1.6//NONSGML v1.0//EN
CALSCALE:GREGORIAN
METHOD:PUBLISH
X-WR-CALNAME:Octubre Centre de Cultura Contemporània
X-ORIGINAL-URL:https://octubre.cat
X-WR-CALDESC:Events for Octubre Centre de Cultura Contemporània
BEGIN:VTIMEZONE
TZID:Europe/Andorra
BEGIN:DAYLIGHT
TZOFFSETFROM:+0100
TZOFFSETTO:+0200
TZNAME:CEST
DTSTART:20140330T010000
END:DAYLIGHT
BEGIN:STANDARD
TZOFFSETFROM:+0200
TZOFFSETTO:+0100
TZNAME:CET
DTSTART:20141026T010000
END:STANDARD
END:VTIMEZONE
BEGIN:VEVENT
DTSTART;TZID=Europe/Andorra:20140325T190000
DTEND;TZID=Europe/Andorra:20140325T190000
DTSTAMP:20260422T021727
CREATED:20200729T170357Z
LAST-MODIFIED:20200729T184409Z
UID:9726-1395774000-1395774000@octubre.cat
SUMMARY:Presentació del llibre 'De la transparència'\, de Berna Blanch
DESCRIPTION:Dimarts 25 de març a les 19.00h. Amb Ramon Guillem i el grup Argila de l’Aire  \n  \n  \n\n Perifèric Edicions  La presentació anirà a càrrec de Ramon Guillem i inclourà un recital del grup Argila de l’Aire  Els poemes de Berna Blanch són bastits amb l’arquitectura del silenci i la transparència expressiva. Una poesia on el paisatge és un referent exterior\, però també una part de la pròpia intimitat: una poesia que ens parla de la comunió amb tot allò que ens envolta\, perquè el poeta ens diu i sap que som part del corrent de la vida.
URL:https://octubre.cat/activitat/presentacio-del-llibre-de-la-transparencia-de-berna-blanch/
LOCATION:Llibreria 3i4
CATEGORIES:Literatura
ATTACH;FMTTYPE=image/jpeg:https://octubre.cat/www/wp-content/uploads/2020/07/activitat2021.jpg
END:VEVENT
END:VCALENDAR