BEGIN:VCALENDAR
VERSION:2.0
PRODID:-//Octubre Centre de Cultura Contemporània - ECPv5.1.6//NONSGML v1.0//EN
CALSCALE:GREGORIAN
METHOD:PUBLISH
X-WR-CALNAME:Octubre Centre de Cultura Contemporània
X-ORIGINAL-URL:https://octubre.cat
X-WR-CALDESC:Events for Octubre Centre de Cultura Contemporània
BEGIN:VTIMEZONE
TZID:Europe/Andorra
BEGIN:DAYLIGHT
TZOFFSETFROM:+0100
TZOFFSETTO:+0200
TZNAME:CEST
DTSTART:20130331T010000
END:DAYLIGHT
BEGIN:STANDARD
TZOFFSETFROM:+0200
TZOFFSETTO:+0100
TZNAME:CET
DTSTART:20131027T010000
END:STANDARD
END:VTIMEZONE
BEGIN:VEVENT
DTSTART;TZID=Europe/Andorra:20131017T190000
DTEND;TZID=Europe/Andorra:20131017T190000
DTSTAMP:20260421T020528
CREATED:20200729T170144Z
LAST-MODIFIED:20200729T184209Z
UID:9597-1382036400-1382036400@octubre.cat
SUMMARY:Presentació del llibre de Joan-Carles Martí
DESCRIPTION:Dijous 17 octubre a les 19.00h\, amb Joan-Carles Martí i Ferran Suay  \n  \n  \n\n (Documenta Balear)  Presentació de la primera novel.la de Joan-Carles Martí\, per Ferran Suay
URL:https://octubre.cat/activitat/presentacio-del-llibre-de-joan-carles-marti/
LOCATION:Llibreria 3i4
CATEGORIES:Literatura
ATTACH;FMTTYPE=image/jpeg:https://octubre.cat/www/wp-content/uploads/2020/07/activitat1860.jpg
END:VEVENT
END:VCALENDAR