BEGIN:VCALENDAR
VERSION:2.0
PRODID:-//Octubre Centre de Cultura Contemporània - ECPv5.1.6//NONSGML v1.0//EN
CALSCALE:GREGORIAN
METHOD:PUBLISH
X-WR-CALNAME:Octubre Centre de Cultura Contemporània
X-ORIGINAL-URL:https://octubre.cat
X-WR-CALDESC:Events for Octubre Centre de Cultura Contemporània
BEGIN:VTIMEZONE
TZID:Europe/Andorra
BEGIN:DAYLIGHT
TZOFFSETFROM:+0100
TZOFFSETTO:+0200
TZNAME:CEST
DTSTART:20140330T010000
END:DAYLIGHT
BEGIN:STANDARD
TZOFFSETFROM:+0200
TZOFFSETTO:+0100
TZNAME:CET
DTSTART:20141026T010000
END:STANDARD
END:VTIMEZONE
BEGIN:VEVENT
DTSTART;TZID=Europe/Andorra:20140703T190000
DTEND;TZID=Europe/Andorra:20140703T190000
DTSTAMP:20260421T060937
CREATED:20200729T170455Z
LAST-MODIFIED:20200730T041137Z
UID:9782-1404414000-1404414000@octubre.cat
SUMMARY:Presentació del llibre 'De dies i d'anys'\, de Vicent Rubén Pascual
DESCRIPTION:Dijous 3 de juliol a les 19.00h\, a la llibreria 3i4  \n  \n  \n\n Presentació del llibre De dies i d’anys (Germania)\, la primera proposta poètica de Vicent Rubén Pascual\, inspirada per la música de de Mark Knopfler i la seua banda Dire Straits. Una aposta estètica per la plasticitat de la paraula i per la reutilització dels referents culturals de la societat actual
URL:https://octubre.cat/activitat/presentacio-del-llibre-de-dies-i-danys-de-vicent-ruben-pascual/
LOCATION:Llibreria 3i4
CATEGORIES:Literatura
ATTACH;FMTTYPE=image/jpeg:https://octubre.cat/www/wp-content/uploads/2020/07/activitat2082.jpg
END:VEVENT
END:VCALENDAR