BEGIN:VCALENDAR
VERSION:2.0
PRODID:-//Octubre Centre de Cultura Contemporània - ECPv5.1.6//NONSGML v1.0//EN
CALSCALE:GREGORIAN
METHOD:PUBLISH
X-WR-CALNAME:Octubre Centre de Cultura Contemporània
X-ORIGINAL-URL:https://octubre.cat
X-WR-CALDESC:Events for Octubre Centre de Cultura Contemporània
BEGIN:VTIMEZONE
TZID:Europe/Andorra
BEGIN:DAYLIGHT
TZOFFSETFROM:+0100
TZOFFSETTO:+0200
TZNAME:CEST
DTSTART:20110327T010000
END:DAYLIGHT
BEGIN:STANDARD
TZOFFSETFROM:+0200
TZOFFSETTO:+0100
TZNAME:CET
DTSTART:20111030T010000
END:STANDARD
END:VTIMEZONE
BEGIN:VEVENT
DTSTART;TZID=Europe/Andorra:20111026T193000
DTEND;TZID=Europe/Andorra:20111026T193000
DTSTAMP:20260421T004318
CREATED:20200729T165625Z
LAST-MODIFIED:20200730T042903Z
UID:9288-1319657400-1319657400@octubre.cat
SUMMARY:Presentació del llibre 'Cròniques de disseny...'\, d'Enric Satué
DESCRIPTION:Dimecres 26 d’octubre a les 19.30h: presentació del llibre “Cròniques de disseny amb gust de menta\, vainilla i xocolata” amb Tomàs Llorens i l’autor\, Enric Satué  \n  \n  \n\nCròniques de disseny amb gust de menta\, vainilla i xocolata Enric Satué (Edicions 3i4)  Presentació a càrrec de Tomàs Llorens i Eliseu Climent  Enric Satué (Barcelona\, 1938) no ha escrit una autobiografia\, sinó l’expressió d’unes preferències personals\, tal com va fer el dissenyador William Morris fa més de cent anys. S’ha passat la vida fent dissenys sense ser dissenyador (és llicenciat en Belles Arts)\, ha escrit quinze o setze llibres d’història del disseny sense ser historiador\, i ara escriu un llibre (sense il·lustracions) sense ser escriptor. Tot sigui per aquest objecte que li té robat el cor\, misteriós i mig mil·lenari.  Darrera aquest títol de ressonàncies “pop” s’amaguen moments d’història creativa i personal\, que\, emmarcats sempre en l’altra història\, la de tots\, duran el lector -tant el que esperi d’Enric Satué una reflexió artística com general- a reconèixer-s’hi inevitablement.  Suggerits o en clau\, però a voltes amb totes les lletres\, uns quants noms de persones públiques i privades\, s’hi deixen caure. No debades es tracta d’un gènere\, el memorialístic\, on altrament trobaríem a faltar les majúscules en el seu paper de fites o passeres tipogràfiques -i ací\, l’autor hi té molt a dir- que ens esperonen a anar encara més lluny. Ara bé\, quan l’autor vol ser de veres personal\, eròticament confidencial\, haurem de fer un esforç per endevinar darrere el pudor onomàstic qui és la teutònica dona-salsitxa\, la noia-Freia d’esplendorosa cabellera o la noia filiforme dels anys de galera.  I és el candor -o en diríem absència de malícia?- d’aquells anys i la distància il·lusionada del present el que tan bé ha sabut recobrar per transmetre’ns.
URL:https://octubre.cat/activitat/presentacio-del-llibre-croniques-de-disseny-denric-satue/
LOCATION:No definit
CATEGORIES:Premis Octubre
ATTACH;FMTTYPE=image/jpeg:https://octubre.cat/www/wp-content/uploads/2020/07/activitat1520.jpg
END:VEVENT
END:VCALENDAR