BEGIN:VCALENDAR
VERSION:2.0
PRODID:-//Octubre Centre de Cultura Contemporània - ECPv5.1.6//NONSGML v1.0//EN
CALSCALE:GREGORIAN
METHOD:PUBLISH
X-WR-CALNAME:Octubre Centre de Cultura Contemporània
X-ORIGINAL-URL:https://octubre.cat
X-WR-CALDESC:Events for Octubre Centre de Cultura Contemporània
BEGIN:VTIMEZONE
TZID:Europe/Andorra
BEGIN:DAYLIGHT
TZOFFSETFROM:+0100
TZOFFSETTO:+0200
TZNAME:CEST
DTSTART:20150329T010000
END:DAYLIGHT
BEGIN:STANDARD
TZOFFSETFROM:+0200
TZOFFSETTO:+0100
TZNAME:CET
DTSTART:20151025T010000
END:STANDARD
END:VTIMEZONE
BEGIN:VEVENT
DTSTART;TZID=Europe/Andorra:20151023T190000
DTEND;TZID=Europe/Andorra:20151023T190000
DTSTAMP:20260422T083640
CREATED:20200729T171253Z
LAST-MODIFIED:20200730T041528Z
UID:10296-1445626800-1445626800@octubre.cat
SUMMARY:Presentació del llibre 'Cosmos d'aram'\, de Balma Albalat
DESCRIPTION:Divendres 23 d’octubre a les 19.00h\, a la llibreria 3i4.  \n  \n  \n\n Il·lustracions d’Antoni Albalat.  (El Petit Editor)  Cosmos d’aram (poemes fractals) és una proposta que uneix la poesia i les noves tecnologies de la informació. Lluny de la clàssica distinció entre ciències i lletres\, que separa sense sentit universos vastíssims. Aquest llibre uneix l’univers lúdic i llampant de la geometria fractal i la poesia. En paraules dels propis autors (Balma Albalat i Antoni Albalat) aquest llibre és una supercorda d’enllaç.
URL:https://octubre.cat/activitat/presentacio-del-llibre-cosmos-daram-de-balma-albalat/
LOCATION:Llibreria 3i4
CATEGORIES:Literatura
ATTACH;FMTTYPE=image/jpeg:https://octubre.cat/www/wp-content/uploads/2020/07/activitat2390.jpg
END:VEVENT
END:VCALENDAR