BEGIN:VCALENDAR
VERSION:2.0
PRODID:-//Octubre Centre de Cultura Contemporània - ECPv5.1.6//NONSGML v1.0//EN
CALSCALE:GREGORIAN
METHOD:PUBLISH
X-WR-CALNAME:Octubre Centre de Cultura Contemporània
X-ORIGINAL-URL:https://octubre.cat
X-WR-CALDESC:Events for Octubre Centre de Cultura Contemporània
BEGIN:VTIMEZONE
TZID:Europe/Andorra
BEGIN:DAYLIGHT
TZOFFSETFROM:+0100
TZOFFSETTO:+0200
TZNAME:CEST
DTSTART:20190331T010000
END:DAYLIGHT
BEGIN:STANDARD
TZOFFSETFROM:+0200
TZOFFSETTO:+0100
TZNAME:CET
DTSTART:20191027T010000
END:STANDARD
END:VTIMEZONE
BEGIN:VEVENT
DTSTART;TZID=Europe/Andorra:20190328T190000
DTEND;TZID=Europe/Andorra:20190328T190000
DTSTAMP:20260421T105217
CREATED:20200729T173259Z
LAST-MODIFIED:20200729T191042Z
UID:11365-1553799600-1553799600@octubre.cat
SUMMARY:Presentació del llibre "Corrents de fons. Societat\, cultura\, política"\, de Gustau Muñoz
DESCRIPTION:Dijous 28 de març a les 19.00h. Amb l’autor acompanyat per Manuel Alcaraz i Adolf Beltran.	 \n  \n  \n\n 	 Amb l’autor acompanyat per Manuel Alcaraz i Adolf Beltran.  Aquest llibre aplega un conjunt de textos que tenen com a rerefons la consideració crítica sobre el País Valencià contemporani des de la perspectiva de la cultura\, la societat i la política. Reflexions que atenyen les darreres dècades i\, particularment\, el llarg parèntesi de govern desficaciat i corrupte de la dreta\, i encara més enllà\, per tal com l’autor es remunta pràcticament a tot el segle XX i es fa ressò no només del context valencià\, sinó també global.  (Lletra Impresa)
URL:https://octubre.cat/activitat/presentacio-del-llibre-corrents-de-fons-societat-cultura-politica-de-gustau-munoz/
LOCATION:Llibreria Fan Set
CATEGORIES:Literatura
ATTACH;FMTTYPE=image/jpeg:https://octubre.cat/www/wp-content/uploads/2020/07/activitat3210.jpg
END:VEVENT
END:VCALENDAR