BEGIN:VCALENDAR
VERSION:2.0
PRODID:-//Octubre Centre de Cultura Contemporània - ECPv5.1.6//NONSGML v1.0//EN
CALSCALE:GREGORIAN
METHOD:PUBLISH
X-WR-CALNAME:Octubre Centre de Cultura Contemporània
X-ORIGINAL-URL:https://octubre.cat
X-WR-CALDESC:Events for Octubre Centre de Cultura Contemporània
BEGIN:VTIMEZONE
TZID:Europe/Andorra
BEGIN:DAYLIGHT
TZOFFSETFROM:+0100
TZOFFSETTO:+0200
TZNAME:CEST
DTSTART:20160327T010000
END:DAYLIGHT
BEGIN:STANDARD
TZOFFSETFROM:+0200
TZOFFSETTO:+0100
TZNAME:CET
DTSTART:20161030T010000
END:STANDARD
END:VTIMEZONE
BEGIN:VEVENT
DTSTART;TZID=Europe/Andorra:20160629T190000
DTEND;TZID=Europe/Andorra:20160629T190000
DTSTAMP:20260421T152647
CREATED:20200729T171957Z
LAST-MODIFIED:20200729T185547Z
UID:10752-1467226800-1467226800@octubre.cat
SUMMARY:Presentació del llibre 'Contra les aules'\, de Tomàs Llopis
DESCRIPTION:AQUEST ACTE S’HA SUSPÈS PER CAUSES ALIENES A L’OCTUBRE CCC La presentació es realitzarà el proper mes de setembre  \n  \n  \n\n AQUEST ACTE S’HA SUSPÈS PER CAUSES ALIENES A L’OCTUBRE CCC La presentació es realitzarà el proper mes de setembre  (Edicions 3i4)  Participen:  Carme Manuel\, Catedràtica de filologia anglesa Jaume Fullana\, Director General de Política Educativa a la Conselleria d’Educació\, Investigació\, Cultura i Esport Tomàs Llopis\, autor  A pesar del que sembla\, “No he volgut fer un llibre per a mestres. Tots hem passat per les aules\, i aquest provocador títol ve a dir que no estic en contra de les aules\, sinó en contra de les aules impermeables a la realitat” diu el professor jubilat de Pego. “No pots fer una aula aïllada de la realitat dels alumnes. Coses com si hi ha hagut partit de futbol i guanya el Barça o el Madrid afecta a com donaràs la classe”. Però per a connectar amb els alumnes s’ha d’utilitzar la seducció com a camí “si aconsegueixes despertar alguna cosa en l’alumne\, si provoques la curiositat\, aconsegueixes que se senten lliures aprenent” diu Llopis. Per a ell: “ensenyar és escoltar als alumnes i\, com el metge que fa un diagnòstic\, un mestre ha de analitzar la situació\, prendre-li l pols a l’alumnat i aleshores actuar en conseqüència”.
URL:https://octubre.cat/activitat/presentacio-del-llibre-contra-les-aules-de-tomas-llopis/
CATEGORIES:Literatura
ATTACH;FMTTYPE=image/jpeg:https://octubre.cat/www/wp-content/uploads/2020/07/activitat2627.jpg
END:VEVENT
END:VCALENDAR