BEGIN:VCALENDAR
VERSION:2.0
PRODID:-//Octubre Centre de Cultura Contemporània - ECPv5.1.6//NONSGML v1.0//EN
CALSCALE:GREGORIAN
METHOD:PUBLISH
X-WR-CALNAME:Octubre Centre de Cultura Contemporània
X-ORIGINAL-URL:https://octubre.cat
X-WR-CALDESC:Events for Octubre Centre de Cultura Contemporània
BEGIN:VTIMEZONE
TZID:Europe/Andorra
BEGIN:DAYLIGHT
TZOFFSETFROM:+0100
TZOFFSETTO:+0200
TZNAME:CEST
DTSTART:20250330T010000
END:DAYLIGHT
BEGIN:STANDARD
TZOFFSETFROM:+0200
TZOFFSETTO:+0100
TZNAME:CET
DTSTART:20251026T010000
END:STANDARD
END:VTIMEZONE
BEGIN:VEVENT
DTSTART;TZID=Europe/Andorra:20251023T190000
DTEND;TZID=Europe/Andorra:20251023T190000
DTSTAMP:20260420T192317
CREATED:20251002T152323Z
LAST-MODIFIED:20251002T152323Z
UID:23742-1761246000-1761246000@octubre.cat
SUMMARY:Presentació del llibre Contra la llengua dels valencians. Una batalla per la cultura\, de Vicent Flor
DESCRIPTION:Amb l’autor acompanyat per Rosanna Martínez\, presidenta d’Escola Valenciana \nAquest llibre analitza el conflicte lingüístic valencià tenint en compte una perspectiva comparada i des de diversos vessants: la construcció del castellà com a llengua hegemònica\, l’oposició a Joan Fuster i al valencianisme durant el franquisme\, la retòrica legitimadora de l’Himne Regional i el desenvolupament del secessionisme idiomàtic\, amb atenció especial a l’oposició de l’ús del valencià i al discurs justificador de la castellanització. L’objectiu és mostrar que els grups poderosos tracten de mantenir el català en una posició de subordinació respecte del castellà. Malgrat això\, molts a casa nostra no veuen la dominació simbòlica i fins i tot en participen. Contra la llengua dels valencians. Una batalla per la cultura és un assaig escrit de manera amena i fins i tot irònica\, adreçat a tota mena de lectors interessats\, no només valencians. \n  \n \n(Afers)
URL:https://octubre.cat/activitat/presentacio-del-llibre-contra-la-llengua-dels-valencians-una-batalla-per-la-cultura-de-vicent-flor/
LOCATION:Llibreria Fan Set
CATEGORIES:Literatura
ATTACH;FMTTYPE=image/jpeg:https://octubre.cat/www/wp-content/uploads/2021/12/vicent-flor.jpg
END:VEVENT
END:VCALENDAR