BEGIN:VCALENDAR
VERSION:2.0
PRODID:-//Octubre Centre de Cultura Contemporània - ECPv5.1.6//NONSGML v1.0//EN
CALSCALE:GREGORIAN
METHOD:PUBLISH
X-WR-CALNAME:Octubre Centre de Cultura Contemporània
X-ORIGINAL-URL:https://octubre.cat
X-WR-CALDESC:Events for Octubre Centre de Cultura Contemporània
BEGIN:VTIMEZONE
TZID:Europe/Andorra
BEGIN:DAYLIGHT
TZOFFSETFROM:+0100
TZOFFSETTO:+0200
TZNAME:CEST
DTSTART:20190331T010000
END:DAYLIGHT
BEGIN:STANDARD
TZOFFSETFROM:+0200
TZOFFSETTO:+0100
TZNAME:CET
DTSTART:20191027T010000
END:STANDARD
END:VTIMEZONE
BEGIN:VEVENT
DTSTART;TZID=Europe/Andorra:20190108T190000
DTEND;TZID=Europe/Andorra:20190108T190000
DTSTAMP:20260421T090621
CREATED:20200729T173235Z
LAST-MODIFIED:20200729T191022Z
UID:11340-1546974000-1546974000@octubre.cat
SUMMARY:Presentació del llibre "Contem històries de dones d'ací"\, de Rosa Roig i Manola Roig
DESCRIPTION:Dimarts 8 de gener a les 19.00h a la llibreria Fan Set.	 \n  \n  \n\n 	 Contem històries de dones d’ací s’apropa a 21 dones valencianes. Per les seues planes desfilen l’exministra Carme Alborch; la vedette Rosita Amores; les artistes plàstiques Manuela Ballester i Carmen Calvo; les escriptores Maria Beneyto\, Carme Miquel\, Isabel-Clara Simó i Sor Isabel de Villena; la judoka Miriam Blasco; la científica Maria Blasco; la cantant d’òpera Lucrezia Bori; l’empresària Dolores Cortés; la filòsofa Adela Cortina; la defensora de la llibertat Virtudes Cuevas; la pianista Amparo Iturbi; l’oncòloga Ana Lluch; l’actriu Rosanna Pastor; la cantant de copla Concha Piquer; la compositora Matilde Salvador; l’editora Rosa Serrano i la reina Maria de Castella.  (Vincle Ed.)
URL:https://octubre.cat/activitat/presentacio-del-llibre-contem-histories-de-dones-daci-de-rosa-roig-i-manola-roig/
LOCATION:Llibreria Fan Set
CATEGORIES:Literatura
ATTACH;FMTTYPE=image/jpeg:https://octubre.cat/www/wp-content/uploads/2020/07/activitat3186.jpg
END:VEVENT
END:VCALENDAR