BEGIN:VCALENDAR
VERSION:2.0
PRODID:-//Octubre Centre de Cultura Contemporània - ECPv5.1.6//NONSGML v1.0//EN
CALSCALE:GREGORIAN
METHOD:PUBLISH
X-WR-CALNAME:Octubre Centre de Cultura Contemporània
X-ORIGINAL-URL:https://octubre.cat
X-WR-CALDESC:Events for Octubre Centre de Cultura Contemporània
BEGIN:VTIMEZONE
TZID:Europe/Andorra
BEGIN:DAYLIGHT
TZOFFSETFROM:+0100
TZOFFSETTO:+0200
TZNAME:CEST
DTSTART:20140330T010000
END:DAYLIGHT
BEGIN:STANDARD
TZOFFSETFROM:+0200
TZOFFSETTO:+0100
TZNAME:CET
DTSTART:20141026T010000
END:STANDARD
END:VTIMEZONE
BEGIN:VEVENT
DTSTART;TZID=Europe/Andorra:20140219T190000
DTEND;TZID=Europe/Andorra:20140219T190000
DTSTAMP:20260421T010344
CREATED:20200729T170328Z
LAST-MODIFIED:20200729T184343Z
UID:9697-1392836400-1392836400@octubre.cat
SUMMARY:Presentació del llibre 'Compàs d'espera'\, de Susanna Lliberós
DESCRIPTION:Dimecres 19 de febrer a les 19.00h. Amb l’autora\, Josep Manel Vidal\, Miquel Salvo i Ángela Peirat  \n  \n  \n\n Editorial Germania\, (col·lecció Plaerdemavida )  Susanna Lliberós és periodista i poeta. Compàs d’espera és el seu segon llibre de poemes.  La presentació del llibre anirà a càrrec del també poeta Josep Manel Vidal. Hi intervindran els actors Miquel Salvo i Ángela Peirat.
URL:https://octubre.cat/activitat/presentacio-del-llibre-compas-despera-de-susanna-lliberos/
CATEGORIES:Literatura
ATTACH;FMTTYPE=image/jpeg:https://octubre.cat/www/wp-content/uploads/2020/07/activitat1989.jpg
END:VEVENT
END:VCALENDAR