BEGIN:VCALENDAR
VERSION:2.0
PRODID:-//Octubre Centre de Cultura Contemporània - ECPv5.1.6//NONSGML v1.0//EN
CALSCALE:GREGORIAN
METHOD:PUBLISH
X-WR-CALNAME:Octubre Centre de Cultura Contemporània
X-ORIGINAL-URL:https://octubre.cat
X-WR-CALDESC:Events for Octubre Centre de Cultura Contemporània
BEGIN:VTIMEZONE
TZID:Europe/Andorra
BEGIN:DAYLIGHT
TZOFFSETFROM:+0100
TZOFFSETTO:+0200
TZNAME:CEST
DTSTART:20170326T010000
END:DAYLIGHT
BEGIN:STANDARD
TZOFFSETFROM:+0200
TZOFFSETTO:+0100
TZNAME:CET
DTSTART:20171029T010000
END:STANDARD
END:VTIMEZONE
BEGIN:VEVENT
DTSTART;TZID=Europe/Andorra:20171130T190000
DTEND;TZID=Europe/Andorra:20171130T190000
DTSTAMP:20260422T013952
CREATED:20200729T190220Z
LAST-MODIFIED:20200729T190220Z
UID:13287-1512068400-1512068400@octubre.cat
SUMMARY:Presentació del llibre 'Color Cubano'\, de Joaquim Seguí
DESCRIPTION:Dijous 30 de novembre a les 19.00h. Amb l’autor acompanyat per Omar de León\, José García Poveda “el Flaco” i David Rodríguez.  \n  \n  \n\n Amb la participació de: —Joaquim Seguí\, fotògraf —Omar de León\, professor d’economia a la Universitat Complutense de Madrid —José García Poveda\, “el Flaco”\, fotògraf —David Rodríguez\, membre d’honor de la Fundación Nicolás Guillén  “Cuba és mulata. I la mirada de Joaquim Seguí sobre l’illa caribenya és en blanc i negre. A les fotografies es disputen el protagonisme\, a parts iguals\, la paleta de grisos i les mil històries dels negres i mulats cubans que hi apareixen. Un treball documental que destil·la passió per l’afrocubanisme\, al llarg de tres viatges que abasten un període de 12 anys. Les imatges van més enllà de la Cuba del Chevrolet\, els pòsters i grafitis. Són fotografies de la vida. Una confessió: entre els professionals de la fotografia corria una llegenda urbana\, la història d’un metge que es comprava una càmera de fotos professional i sovint\, al cap de poc\, la canviava per un model superior. Molts professionals hem tingut material comprat d’ocasió que ens venien amb aquest argument a les botigues. Feia gràcia pensar que el món era ple de metges fotògrafs. Seguí és metge\, però no era aquell metge. Ell és cardiòleg a Eivissa i no és professional\, però és un gran fotògraf.” (Xavier Bertral\, diari Ara).  Les imatges del llibre van acompanyades de poemes de Nicolás Guillén\, Leonardo Padura i José Martí\, textos que posen en context la composició ètnica de l’illa.  L’any 2016\, Joaquim Seguí va exposar a l’Octubre CCC la seua sèrie “Escenes etíops”.
URL:https://octubre.cat/activitat/presentacio-del-llibre-color-cubano-de-joaquim-segui/
LOCATION:Sala d’actes
CATEGORIES:Literatura
ATTACH;FMTTYPE=image/jpeg:https://octubre.cat/www/wp-content/uploads/2020/07/activitat2926.jpg
END:VEVENT
END:VCALENDAR