BEGIN:VCALENDAR
VERSION:2.0
PRODID:-//Octubre Centre de Cultura Contemporània - ECPv5.1.6//NONSGML v1.0//EN
CALSCALE:GREGORIAN
METHOD:PUBLISH
X-WR-CALNAME:Octubre Centre de Cultura Contemporània
X-ORIGINAL-URL:https://octubre.cat
X-WR-CALDESC:Events for Octubre Centre de Cultura Contemporània
BEGIN:VTIMEZONE
TZID:Europe/Andorra
BEGIN:DAYLIGHT
TZOFFSETFROM:+0100
TZOFFSETTO:+0200
TZNAME:CEST
DTSTART:20150329T010000
END:DAYLIGHT
BEGIN:STANDARD
TZOFFSETFROM:+0200
TZOFFSETTO:+0100
TZNAME:CET
DTSTART:20151025T010000
END:STANDARD
END:VTIMEZONE
BEGIN:VEVENT
DTSTART;TZID=Europe/Andorra:20150212T190000
DTEND;TZID=Europe/Andorra:20150212T190000
DTSTAMP:20260422T001805
CREATED:20200729T170852Z
LAST-MODIFIED:20200730T041338Z
UID:10041-1423767600-1423767600@octubre.cat
SUMMARY:Presentació del llibre 'Clarobscur'\, d'Àngels Moreno
DESCRIPTION:Dijous 12 de febrer a les 19.00h. A la llibreria 3i4. A càrrec de Josep Mir i Joan Femenia  \n  \n  \n\n (Editorial Neopàtria).  La presentació anirà a càrrec de Josep Mir. Recital per Joan Femenia.  Àngels Moreno naix a València el 1993. Realitza estudis de medicina en Tarragona. Entusiasta de la literatura\, la sacsada de la poesia l’ha duta a escriure des de ben petita\, i cerca els seus referents en la poesia catalana actual\, francesa\, anglesa\, alemanya i sud-americana. Podem trobar-ne una mostra de la seua poesia al seu blog personal ‘La gènesi del blau’\, a la pàgina web de poesia ‘Arte poética’\, creada pel poeta salvadoreny André Cruchaga\, i al blog ‘Poesía de mujeres’\, de la poeta Ana Muela. Alguns dels seus poemes han estat traduïts als romanés i al portugués.  Clarobscur és un poemari amb què es pretén arribar fins a la nuesa del concepte\, endinsar-se en l’orografia\, a voltes escarpada\, de la poètica\, en la sensació pregona i l’experiència que cristal·litzen la imatge. En aquest calidoscopi\, el lector assistirà a un exercici d’arqueologia vers les frontisses del pit o de la carn\, i a la immersió en els avencs de l’extensa possibilitat de la metàfora.
URL:https://octubre.cat/activitat/presentacio-del-llibre-clarobscur-dangels-moreno/
LOCATION:Llibreria 3i4
CATEGORIES:Literatura
ATTACH;FMTTYPE=image/jpeg:https://octubre.cat/www/wp-content/uploads/2020/07/activitat2240.jpg
END:VEVENT
END:VCALENDAR