BEGIN:VCALENDAR
VERSION:2.0
PRODID:-//Octubre Centre de Cultura Contemporània - ECPv5.1.6//NONSGML v1.0//EN
CALSCALE:GREGORIAN
METHOD:PUBLISH
X-WR-CALNAME:Octubre Centre de Cultura Contemporània
X-ORIGINAL-URL:https://octubre.cat
X-WR-CALDESC:Events for Octubre Centre de Cultura Contemporània
BEGIN:VTIMEZONE
TZID:Europe/Andorra
BEGIN:DAYLIGHT
TZOFFSETFROM:+0100
TZOFFSETTO:+0200
TZNAME:CEST
DTSTART:20120325T010000
END:DAYLIGHT
BEGIN:STANDARD
TZOFFSETFROM:+0200
TZOFFSETTO:+0100
TZNAME:CET
DTSTART:20121028T010000
END:STANDARD
END:VTIMEZONE
BEGIN:VEVENT
DTSTART;TZID=Europe/Andorra:20120607T193000
DTEND;TZID=Europe/Andorra:20120607T193000
DTSTAMP:20260422T151210
CREATED:20200729T165752Z
LAST-MODIFIED:20200729T183851Z
UID:9376-1339097400-1339097400@octubre.cat
SUMMARY:Presentació del llibre 'Cap de vena'\, de Miquel Salvo
DESCRIPTION:Dijous 7 de juny a les 19.30h: presentació del llibre “Cap de vena”\, de Miquel Salvo  \n  \n  \n\nPresentació del llibre Cap de vena\, de Miquel Salvo Ramos (Tabarca Llibres)  Presenta el llibre Susanna Lliberós amb la presència de l’autor.
URL:https://octubre.cat/activitat/presentacio-del-llibre-cap-de-vena-de-miquel-salvo/
LOCATION:No definit
CATEGORIES:Literatura
ATTACH;FMTTYPE=image/jpeg:https://octubre.cat/www/wp-content/uploads/2020/07/activitat1619.jpg
END:VEVENT
END:VCALENDAR