BEGIN:VCALENDAR
VERSION:2.0
PRODID:-//Octubre Centre de Cultura Contemporània - ECPv5.1.6//NONSGML v1.0//EN
CALSCALE:GREGORIAN
METHOD:PUBLISH
X-WR-CALNAME:Octubre Centre de Cultura Contemporània
X-ORIGINAL-URL:https://octubre.cat
X-WR-CALDESC:Events for Octubre Centre de Cultura Contemporània
BEGIN:VTIMEZONE
TZID:Europe/Andorra
BEGIN:DAYLIGHT
TZOFFSETFROM:+0100
TZOFFSETTO:+0200
TZNAME:CEST
DTSTART:20160327T010000
END:DAYLIGHT
BEGIN:STANDARD
TZOFFSETFROM:+0200
TZOFFSETTO:+0100
TZNAME:CET
DTSTART:20161030T010000
END:STANDARD
END:VTIMEZONE
BEGIN:VEVENT
DTSTART;TZID=Europe/Andorra:20160120T190000
DTEND;TZID=Europe/Andorra:20160120T190000
DTSTAMP:20260421T182444
CREATED:20200729T171519Z
LAST-MODIFIED:20200730T041629Z
UID:10453-1453316400-1453316400@octubre.cat
SUMMARY:Presentació del llibre 'Cants de sirena negra'\, de Sebastià Bennasar
DESCRIPTION:Dimecres 20 de gener a les 19.00h\, a la llibreria 3i4.  \n  \n  \n\n (Saldonar)  Una sirena negra sedueix un home jove\, periodista\, i se’n va. El món\, a partir d’aquesta trobada\, ja no és el mateix. L’enamorat\, fascinat sense remei\, segueix el rastre de la dona amb cua de peix per Barcelona\, París\, Florència\, Sevilla\, Portugal\, la badia de Rande\, la Costa da Morte\, Eivissa i la costa valenciana. Tot per completar una història d’amor en què no tenim cap altra alternativa que fer-nos còmplices fins al final.
URL:https://octubre.cat/activitat/presentacio-del-llibre-cants-de-sirena-negra-de-sebastia-bennasar/
LOCATION:Llibreria 3i4
CATEGORIES:Literatura
ATTACH;FMTTYPE=image/jpeg:https://octubre.cat/www/wp-content/uploads/2020/07/activitat2472.jpg
END:VEVENT
END:VCALENDAR