BEGIN:VCALENDAR
VERSION:2.0
PRODID:-//Octubre Centre de Cultura Contemporània - ECPv5.1.6//NONSGML v1.0//EN
CALSCALE:GREGORIAN
METHOD:PUBLISH
X-WR-CALNAME:Octubre Centre de Cultura Contemporània
X-ORIGINAL-URL:https://octubre.cat
X-WR-CALDESC:Events for Octubre Centre de Cultura Contemporània
BEGIN:VTIMEZONE
TZID:Europe/Andorra
BEGIN:DAYLIGHT
TZOFFSETFROM:+0100
TZOFFSETTO:+0200
TZNAME:CEST
DTSTART:20170326T010000
END:DAYLIGHT
BEGIN:STANDARD
TZOFFSETFROM:+0200
TZOFFSETTO:+0100
TZNAME:CET
DTSTART:20171029T010000
END:STANDARD
END:VTIMEZONE
BEGIN:VEVENT
DTSTART;TZID=Europe/Andorra:20170606T190000
DTEND;TZID=Europe/Andorra:20170606T190000
DTSTAMP:20260421T102200
CREATED:20200729T172618Z
LAST-MODIFIED:20200729T185837Z
UID:11158-1496775600-1496775600@octubre.cat
SUMMARY:Presentació del llibre 'Càntic d'ombres'\, de Jaume Pont
DESCRIPTION:Dimarts 6 de juny a les 19.00h a la llibreria Fan Set. Amb l’autor acompanyat per Josep Piera i Ramon Guillem.  \n  \n  \n\n Amb l’autor acompanyat per Ramon Guillem i Josep Piera.  És\, tal com explica l’autor\, “un viatge impulsat pel desig”. I\, per tant\, com el mateix desig\, “un camí d’iniciació que no té final”. Càntic d’ombres (Perifèric)\, de Jaume Pont\, que aplega una setantena de tankes i haikus escrits des del risc i la consciència\, es presenta\, a més a més\, amb deu benigrafies\, els dibuixos de caire oriental i en tinta xinesa del recentment desaparegut Benet Rosell.  (Perifèric Edicions).
URL:https://octubre.cat/activitat/presentacio-del-llibre-cantic-dombres-de-jaume-pont/
LOCATION:Llibreria Fan Set
CATEGORIES:Literatura
ATTACH;FMTTYPE=image/jpeg:https://octubre.cat/www/wp-content/uploads/2020/07/activitat2839.jpg
END:VEVENT
END:VCALENDAR