BEGIN:VCALENDAR
VERSION:2.0
PRODID:-//Octubre Centre de Cultura Contemporània - ECPv5.1.6//NONSGML v1.0//EN
CALSCALE:GREGORIAN
METHOD:PUBLISH
X-WR-CALNAME:Octubre Centre de Cultura Contemporània
X-ORIGINAL-URL:https://octubre.cat
X-WR-CALDESC:Events for Octubre Centre de Cultura Contemporània
BEGIN:VTIMEZONE
TZID:Europe/Andorra
BEGIN:DAYLIGHT
TZOFFSETFROM:+0100
TZOFFSETTO:+0200
TZNAME:CEST
DTSTART:20240331T010000
END:DAYLIGHT
BEGIN:STANDARD
TZOFFSETFROM:+0200
TZOFFSETTO:+0100
TZNAME:CET
DTSTART:20241027T010000
END:STANDARD
END:VTIMEZONE
BEGIN:VEVENT
DTSTART;TZID=Europe/Andorra:20240523T190000
DTEND;TZID=Europe/Andorra:20240523T190000
DTSTAMP:20260421T193811
CREATED:20240509T085921Z
LAST-MODIFIED:20250710T165400Z
UID:21281-1716490800-1716490800@octubre.cat
SUMMARY:Presentació del llibre Calls al gest\, de Damià Rotger
DESCRIPTION:Premi Teodor Llorente de poesia de la Pobla de Vallbona.\nAmb l’autor acompanyat per l’escriptor Manel Alonso Català\, el cal·lígraf Jordi Sempere i l’editor Manolo Gil. \n«Costella en mà em llanço a la terra\ncom si el cos tingués\nl’alè del cel\nenterrat.» \n  \n \n(Vincle)
URL:https://octubre.cat/activitat/presentacio-del-llibre-calls-al-gest-de-damia-rotger/
LOCATION:Llibreria Fan Set
CATEGORIES:Literatura
ATTACH;FMTTYPE=image/jpeg:https://octubre.cat/www/wp-content/uploads/2024/05/damia-rotger.jpg
END:VEVENT
END:VCALENDAR