BEGIN:VCALENDAR
VERSION:2.0
PRODID:-//Octubre Centre de Cultura Contemporània - ECPv5.1.6//NONSGML v1.0//EN
CALSCALE:GREGORIAN
METHOD:PUBLISH
X-WR-CALNAME:Octubre Centre de Cultura Contemporània
X-ORIGINAL-URL:https://octubre.cat
X-WR-CALDESC:Events for Octubre Centre de Cultura Contemporània
BEGIN:VTIMEZONE
TZID:Europe/Andorra
BEGIN:DAYLIGHT
TZOFFSETFROM:+0100
TZOFFSETTO:+0200
TZNAME:CEST
DTSTART:20250330T010000
END:DAYLIGHT
BEGIN:STANDARD
TZOFFSETFROM:+0200
TZOFFSETTO:+0100
TZNAME:CET
DTSTART:20251026T010000
END:STANDARD
END:VTIMEZONE
BEGIN:VEVENT
DTSTART;TZID=Europe/Andorra:20251001T190000
DTEND;TZID=Europe/Andorra:20251001T190000
DTSTAMP:20260420T130635
CREATED:20250725T094457Z
LAST-MODIFIED:20250929T162527Z
UID:23562-1759345200-1759345200@octubre.cat
SUMMARY:Presentació del llibre Breviari mediterrani\, de Predrag Matvejević
DESCRIPTION:Amb el traductor Pau Sanchis Ferrer acompanyat per l’escriptor Joan Benesiu. \nAquest llibre ha estat definit de moltes maneres (tractat poètic i filosòfic\, portolà\, recull d’aforismes o de contes assagístics\, crònica d’un viatge…). És tot això i també és un mosaic\, un palimpsest desplegat o la reconstrucció d’una biblioteca. Però\, sobretot\, és un llibre de gènere inclassificable que a través d’una prosa rica i suggeridora i d’un estudi sobre la geografia física i humana\, sobre la cartografia i sobre les llengües i les literatures del nostre mar intenta reconstruir la història d’una paraula: «Mediterrani». \nEl resultat és un relat bell i savi sobre el mar que a hores d’ara ja és un clàssic europeu contemporani. O tal com diu Claudio Magris: «una narració que fa parlar la realitat i que insereix perfectament la cultura en l’evocació fantàstica.» \n  \n \n(La Breu)
URL:https://octubre.cat/activitat/presentacio-del-llibre-breviari-mediterrani-de-predrag-matvejevic/
LOCATION:Llibreria Fan Set
CATEGORIES:Literatura
ATTACH;FMTTYPE=image/jpeg:https://octubre.cat/www/wp-content/uploads/2024/05/Predrag-Matvejevic.jpeg
END:VEVENT
END:VCALENDAR