BEGIN:VCALENDAR
VERSION:2.0
PRODID:-//Octubre Centre de Cultura Contemporània - ECPv5.1.6//NONSGML v1.0//EN
CALSCALE:GREGORIAN
METHOD:PUBLISH
X-WR-CALNAME:Octubre Centre de Cultura Contemporània
X-ORIGINAL-URL:https://octubre.cat
X-WR-CALDESC:Events for Octubre Centre de Cultura Contemporània
BEGIN:VTIMEZONE
TZID:Europe/Andorra
BEGIN:DAYLIGHT
TZOFFSETFROM:+0100
TZOFFSETTO:+0200
TZNAME:CEST
DTSTART:20150329T010000
END:DAYLIGHT
BEGIN:STANDARD
TZOFFSETFROM:+0200
TZOFFSETTO:+0100
TZNAME:CET
DTSTART:20151025T010000
END:STANDARD
END:VTIMEZONE
BEGIN:VEVENT
DTSTART;TZID=Europe/Andorra:20150529T183000
DTEND;TZID=Europe/Andorra:20150529T183000
DTSTAMP:20260422T020219
CREATED:20200729T171054Z
LAST-MODIFIED:20200730T041437Z
UID:10172-1432924200-1432924200@octubre.cat
SUMMARY:Presentació del llibre 'Boro Trapatroles'\, de Toni Cabo
DESCRIPTION:Divendres 29 de maig a les 18.30h\, a la llibreria 3i4  \n  \n  \n\n (Edicions 3i4)  Toni Cabo és il·lustrador i autor de còmic. Col·labora amb les editorials més conegudes del país en narrativa infantil i juvenil i llibres de text. La seua producció de còmic sempre ha estat vinculada al nostre àmbit lingüístic\, convertint-se en el col·laborador més sòlid i veterà del Camacuc. Ha publicat en les revistes infantils Tretzevents i l’Esquitx i és el creador del còmic Boro\, Moro i Puromoro\, de l’emblemàtica Georgina\, amb guions de Pau Marqués\, i del personatge infantil Lucrècia\, així com de la sèrie humorística Domèstics.  L’Octubre CCC va realitzar el 2014 l’exposició Boro\, el còmic\, que recollia una part destacada de la seua obra.  Basats en els emblemàtics personatges de còmic en valencià Boro\, Moro i Puromoro\, creats per Toni Cabo\, el llibre Boro Trapatroles\, se serveix d’aquest potent recurs lector\, què és el còmic\, per apropar\, els xiquets i xiquetes de 7 a 11 anys l’interés de la lectura i el còmic en català. I descobrir de manera divertida i entretinguda aspectes de la nostra cultura\, llenguatge i vocabulari.
URL:https://octubre.cat/activitat/presentacio-del-llibre-boro-trapatroles-de-toni-cabo/
LOCATION:Llibreria 3i4
CATEGORIES:Literatura
ATTACH;FMTTYPE=image/jpeg:https://octubre.cat/www/wp-content/uploads/2020/07/activitat2323.jpg
END:VEVENT
END:VCALENDAR