BEGIN:VCALENDAR
VERSION:2.0
PRODID:-//Octubre Centre de Cultura Contemporània - ECPv5.1.6//NONSGML v1.0//EN
CALSCALE:GREGORIAN
METHOD:PUBLISH
X-WR-CALNAME:Octubre Centre de Cultura Contemporània
X-ORIGINAL-URL:https://octubre.cat
X-WR-CALDESC:Events for Octubre Centre de Cultura Contemporània
BEGIN:VTIMEZONE
TZID:Europe/Andorra
BEGIN:DAYLIGHT
TZOFFSETFROM:+0100
TZOFFSETTO:+0200
TZNAME:CEST
DTSTART:20140330T010000
END:DAYLIGHT
BEGIN:STANDARD
TZOFFSETFROM:+0200
TZOFFSETTO:+0100
TZNAME:CET
DTSTART:20141026T010000
END:STANDARD
END:VTIMEZONE
BEGIN:VEVENT
DTSTART;TZID=Europe/Andorra:20141119T190000
DTEND;TZID=Europe/Andorra:20141119T190000
DTSTAMP:20260421T062642
CREATED:20200729T170741Z
LAST-MODIFIED:20200730T041252Z
UID:9965-1416423600-1416423600@octubre.cat
SUMMARY:Presentació del llibre 'Blut und boden'\, de Manuel Molins
DESCRIPTION:Dimecres 19 de novembre a les 19.00h. A càrrec de Vicent Alonso i Mònica Oltra  \n  \n  \n\n (‘Sang i pàtria’) Cossetània Edicions  La presentació anirà a càrrec de Vicent Alonso i Mònica Oltra  1945. Alemanya perd la Segona Guerra Mundial i els aliats intenten establir un nou ordre democràtic. Però\, en realitat\, el nazisme ha perdut la guerra o aquesta guerra no ha estat més que una batalla en el camí de la consecució d’un nou Reich filosòfic i econòmic? L’obra ens presenta la figura del professor Martin Schwarzwald\, mestre d’Alemanya\, i el camuflatge de les seves idees darrere d’una retòrica brillant i poètica. Una retòrica i unes opinions que arriben fins als nostres dies i els moviments neonazis que campen de nou per Europa. Però BLUT UND BODEN (‘Sang i pàtria’) no és una proposta historicista\, sinó una reflexió espectacular\, aplicant-hi noves tècniques narratives\, sobre la realitat europea que vivim. Potser per això\, el text es pregunta\, i ens pregunta\, si la realitat actual no ens mostra també un cert tancament en fals de la Segona Guerra Mundial i la victòria sobre el pensament nazi.
URL:https://octubre.cat/activitat/presentacio-del-llibre-blut-und-boden-de-manuel-molins/
CATEGORIES:Literatura
ATTACH;FMTTYPE=image/jpeg:https://octubre.cat/www/wp-content/uploads/2020/07/activitat2181.jpg
END:VEVENT
END:VCALENDAR