BEGIN:VCALENDAR
VERSION:2.0
PRODID:-//Octubre Centre de Cultura Contemporània - ECPv5.1.6//NONSGML v1.0//EN
CALSCALE:GREGORIAN
METHOD:PUBLISH
X-WR-CALNAME:Octubre Centre de Cultura Contemporània
X-ORIGINAL-URL:https://octubre.cat
X-WR-CALDESC:Events for Octubre Centre de Cultura Contemporània
BEGIN:VTIMEZONE
TZID:Europe/Andorra
BEGIN:DAYLIGHT
TZOFFSETFROM:+0100
TZOFFSETTO:+0200
TZNAME:CEST
DTSTART:20190331T010000
END:DAYLIGHT
BEGIN:STANDARD
TZOFFSETFROM:+0200
TZOFFSETTO:+0100
TZNAME:CET
DTSTART:20191027T010000
END:STANDARD
END:VTIMEZONE
BEGIN:VEVENT
DTSTART;TZID=Europe/Andorra:20190411T190000
DTEND;TZID=Europe/Andorra:20190411T190000
DTSTAMP:20260421T002413
CREATED:20200729T173337Z
LAST-MODIFIED:20200729T191114Z
UID:11404-1555009200-1555009200@octubre.cat
SUMMARY:Presentació del llibre "Biografies parcials: impuls"\, de Xavier Serra
DESCRIPTION:Dijous 11 d’abril a les 19.00h. Amb l’autor acompanyat per Vicent Olmos i Vicent Partal.	 \n  \n  \n\n 	 Amb l’autor acompanyat per Vicent Olmos i Vicent Partal.  A més de narrar una sèrie de trajectòries vitals\, Biografies parcials ofereix\, en certa manera\, una visió de la història del País Valencià en les darreres dècades del segle XX i les primeres del segle XXI. Aquest nou volum aplega les biografies de l’actriu Pepa López\, el professor de literatura Donimic Keown\, l’editor Vicent Olmos\, l’arqueòleg Ferran Arasa\, la soprano Enedina Lloris i el periodista Vicent Partal.  Tots els personatges d’aquest volum són nascuts entre el 1951 i el 1960. Les seves peripècies biogràfiques\, per tant\, «s’han trobat circumscrites pels mateixos fets: el final de la dictadura militar del general Franco\, els tripijocs de l’anomenada Transició\, l’auge del neoliberalisme\, la recuperació de l’autogovern\, la caiguda del mur de Berlín…».  (Afers)
URL:https://octubre.cat/activitat/presentacio-del-llibre-biografies-parcials-impuls-de-xavier-serra/
LOCATION:Llibreria Fan Set
CATEGORIES:Literatura
ATTACH;FMTTYPE=image/jpeg:https://octubre.cat/www/wp-content/uploads/2020/07/activitat3249.jpg
END:VEVENT
END:VCALENDAR