BEGIN:VCALENDAR
VERSION:2.0
PRODID:-//Octubre Centre de Cultura Contemporània - ECPv5.1.6//NONSGML v1.0//EN
CALSCALE:GREGORIAN
METHOD:PUBLISH
X-WR-CALNAME:Octubre Centre de Cultura Contemporània
X-ORIGINAL-URL:https://octubre.cat
X-WR-CALDESC:Events for Octubre Centre de Cultura Contemporània
BEGIN:VTIMEZONE
TZID:Europe/Andorra
BEGIN:DAYLIGHT
TZOFFSETFROM:+0100
TZOFFSETTO:+0200
TZNAME:CEST
DTSTART:20140330T010000
END:DAYLIGHT
BEGIN:STANDARD
TZOFFSETFROM:+0200
TZOFFSETTO:+0100
TZNAME:CET
DTSTART:20141026T010000
END:STANDARD
END:VTIMEZONE
BEGIN:VEVENT
DTSTART;TZID=Europe/Andorra:20140626T190000
DTEND;TZID=Europe/Andorra:20140626T190000
DTSTAMP:20260421T054554
CREATED:20200729T170453Z
LAST-MODIFIED:20200730T041136Z
UID:9781-1403809200-1403809200@octubre.cat
SUMMARY:Presentació del llibre 'Bé\, perdona'm...'\, de Rafa Gomar
DESCRIPTION:Dijous 26 de juny a les 19.00h. Presentació del llibre “Bé\, perdona’m\, però estan esperant-me”\, de Rafa Gomar. Amb l’autor i Guillem Calaforra  \n  \n  \n\n (Edicions 3i4)  Presentem el llibre de relats de Rafa Gomar\, Bé\, perdona’m\, però estan esperant-me (Edicions 3i4). Amb l’autor i Guillem Calaforra.
URL:https://octubre.cat/activitat/presentacio-del-llibre-be-perdonam-de-rafa-gomar/
LOCATION:Llibreria 3i4
CATEGORIES:Literatura
ATTACH;FMTTYPE=image/jpeg:https://octubre.cat/www/wp-content/uploads/2020/07/activitat2081.jpg
END:VEVENT
END:VCALENDAR