BEGIN:VCALENDAR
VERSION:2.0
PRODID:-//Octubre Centre de Cultura Contemporània - ECPv5.1.6//NONSGML v1.0//EN
CALSCALE:GREGORIAN
METHOD:PUBLISH
X-WR-CALNAME:Octubre Centre de Cultura Contemporània
X-ORIGINAL-URL:https://octubre.cat
X-WR-CALDESC:Events for Octubre Centre de Cultura Contemporània
BEGIN:VTIMEZONE
TZID:Europe/Andorra
BEGIN:DAYLIGHT
TZOFFSETFROM:+0100
TZOFFSETTO:+0200
TZNAME:CEST
DTSTART:20240331T010000
END:DAYLIGHT
BEGIN:STANDARD
TZOFFSETFROM:+0200
TZOFFSETTO:+0100
TZNAME:CET
DTSTART:20241027T010000
END:STANDARD
END:VTIMEZONE
BEGIN:VEVENT
DTSTART;TZID=Europe/Andorra:20240209T190000
DTEND;TZID=Europe/Andorra:20240209T190000
DTSTAMP:20260421T182503
CREATED:20231218T112243Z
LAST-MODIFIED:20250710T164027Z
UID:20734-1707505200-1707505200@octubre.cat
SUMMARY:Presentació del llibre Baules. Cartes generacionals\, de David Pagès i Cassú
DESCRIPTION:Amb l’autor acompanyat per Francesc Ferrer Escrivà\, Francesc Ferrer Rubio\, M. Dolors Gea Valor\, Santi Vallés i Enric Valor i Hernàndez. \nA Baules. Cartes generacionals\, David Pagès i Cassú interrelaciona passat\, present i futur a través d’un exercici molt ben ideat: l’escriptor demana a quaranta-cinc estudiosos o descendents de figures destacades dels Països Catalans que escriguin una carta al seu avantpassat i una altra a algú de la nova generació d’estudiosos\, infants o joves. \nEntre els personatges referencials\, hi trobem noms ben diversos\, com ara els valencians Josep L. Bausset\, Francesc Ferrer Pastor\, Didín Puig i  Enric Valor i Vives. Els autors de les cartes són Josep Miquel Bausset\, Francesc Ferrer Escrivà\, Francesc i Elionor Ferrer Rubio\, el Dr. Ramon Trullenque\, Enric Valor i Hernàndez i  M. Dolors Gea Valor.\nJaume Vallés Mayor i els nens de Benimodo són els receptors de les cartes relacionades amb Josep L. Bausset i Didín Puig \n  \n \n(MMV)
URL:https://octubre.cat/activitat/presentacio-del-llibre-baules-cartes-generacionals-de-david-pages-i-cassu/
LOCATION:Llibreria Fan Set
CATEGORIES:Literatura
ATTACH;FMTTYPE=image/jpeg:https://octubre.cat/www/wp-content/uploads/2023/12/David-Pages-i-Cassu-2022-web.jpg
END:VEVENT
END:VCALENDAR