BEGIN:VCALENDAR
VERSION:2.0
PRODID:-//Octubre Centre de Cultura Contemporània - ECPv5.1.6//NONSGML v1.0//EN
CALSCALE:GREGORIAN
METHOD:PUBLISH
X-WR-CALNAME:Octubre Centre de Cultura Contemporània
X-ORIGINAL-URL:https://octubre.cat
X-WR-CALDESC:Events for Octubre Centre de Cultura Contemporània
BEGIN:VTIMEZONE
TZID:Europe/Andorra
BEGIN:DAYLIGHT
TZOFFSETFROM:+0100
TZOFFSETTO:+0200
TZNAME:CEST
DTSTART:20170326T010000
END:DAYLIGHT
BEGIN:STANDARD
TZOFFSETFROM:+0200
TZOFFSETTO:+0100
TZNAME:CET
DTSTART:20171029T010000
END:STANDARD
END:VTIMEZONE
BEGIN:VEVENT
DTSTART;TZID=Europe/Andorra:20170117T190000
DTEND;TZID=Europe/Andorra:20170117T190000
DTSTAMP:20260420T182538
CREATED:20200729T172315Z
LAST-MODIFIED:20200729T185713Z
UID:10957-1484679600-1484679600@octubre.cat
SUMMARY:Presentació del llibre 'Basc per a catalanoparlants'
DESCRIPTION:Dimarts 17 de gener a les 19.00h. Amb les autores Beatriz Fernández i Anna Pineda. La presentació anirà a càrrec de Manel Pérez-Saldanya\, Garikoitz Knörr i Gemma Sanginés.  \n  \n  \n\n De Beatriz Fernández i Anna Pineda (Voliana Edicions).  La presentació anirà a càrrec de Manel Pérez-Saldanya\, catedràtic de Filologia Catalana a la Universitat de València\, Garikoitz Knörr\, professor de basc de l’Escola Oficial d’Idiomes de València\, i Gemma Sanginés\, psicòloga clínica i de l’esport i secretària d’Euskaltzaleok València.  “Si heu obert aquest llibre per qualsevol pàgina\, ja us haureu adonat que\, de fet\, no es tracta d’un típic manual de gramàtica. El llibre que teniu a les mans conté\, és clar\, nocions de gramàtica del basc\, però no és només això\, ni de bon tros. Hi trobareu una bona dosi de passatges novel·lats\, referències històriques i culturals\, tastets de gastronomia… i més! Tot plegat per endinsar-vos\, de manera entretinguda\, en el funcionament de la llengua basca\, guiats per la ploma amena i alhora rigorosa de la professora Beatriz Fernández\, amb l’ajut de la lingüista Anna Pineda\, que ha traduït i adaptat per al públic catalanoparlant aquest llibre. De fet\, tal com es llegeix al subtítol de l’obra\, els lectors s’adonaran que el funcionament d’una llengua aparentment tan llunyana i diferent com el basc és\, en el fons\, molt semblant al funcionament del català. Es tracta\, en definitiva\, de descobrir\, llegint\, que la gramàtica basca i la catalana s’assemblen més del que hauríem pogut imaginar\, com\, de fet\, s’assemblen les gramàtiques de totes les llengües.”
URL:https://octubre.cat/activitat/presentacio-del-llibre-basc-per-a-catalanoparlants/
LOCATION:Llibreria Fan Set
CATEGORIES:Literatura
ATTACH;FMTTYPE=image/jpeg:https://octubre.cat/www/wp-content/uploads/2020/07/activitat2738.jpg
END:VEVENT
END:VCALENDAR