BEGIN:VCALENDAR
VERSION:2.0
PRODID:-//Octubre Centre de Cultura Contemporània - ECPv5.1.6//NONSGML v1.0//EN
CALSCALE:GREGORIAN
METHOD:PUBLISH
X-WR-CALNAME:Octubre Centre de Cultura Contemporània
X-ORIGINAL-URL:https://octubre.cat
X-WR-CALDESC:Events for Octubre Centre de Cultura Contemporània
BEGIN:VTIMEZONE
TZID:Europe/Andorra
BEGIN:DAYLIGHT
TZOFFSETFROM:+0100
TZOFFSETTO:+0200
TZNAME:CEST
DTSTART:20180325T010000
END:DAYLIGHT
BEGIN:STANDARD
TZOFFSETFROM:+0200
TZOFFSETTO:+0100
TZNAME:CET
DTSTART:20181028T010000
END:STANDARD
END:VTIMEZONE
BEGIN:VEVENT
DTSTART;TZID=Europe/Andorra:20180920T190000
DTEND;TZID=Europe/Andorra:20180920T190000
DTSTAMP:20260423T101205
CREATED:20200729T173104Z
LAST-MODIFIED:20200729T190912Z
UID:11246-1537470000-1537470000@octubre.cat
SUMMARY:Presentació del llibre "Banda sonora"\, de Pere Rosa
DESCRIPTION:Dijous 20 de setembre a les 19.00h. Amb l’autor acompanyat per Núria Cadenes\, Manel Pérez i Joan Senent.	 \n  \n  \n\n 	 Amb l’autor acompanyat per Núria Cadenes\, Manel Pérez i Joan Senent.  Banda sonora és el fruit d’un arbre que ha crescut alimentat per les arrels de dues cultures\, agrunsat pel vent dels nombrosos esdeveniments polítics i socials de la segona meitat del segle XX\, en el salt al segle XXI\, i adornat per les fulles de l’esperit crític\, la solidaritat\, el compromís i l’amistat. És una invitació a escoltar música des de la primera cita que obri el pròleg. Una constant referència a la lectura i un homenatge a l’art\, la cultura i el cine\, amb el rescat de cançons\, títols\, obres i seqüències inoblidables\, totes elles vinculades al record d‘experiències personals. És\, així mateix\, un regal per als joves lectors\, oferit per un atent espectador\, membre actiu en el trànsit de la dictadura a la democràcia\,  i en la defensa dels drets dels treballadors i de  la llengua i la cultura del País Valencià.
URL:https://octubre.cat/activitat/presentacio-del-llibre-banda-sonora-de-pere-rosa/
CATEGORIES:Literatura
ATTACH;FMTTYPE=image/jpeg:https://octubre.cat/www/wp-content/uploads/2020/07/activitat3092.jpg
END:VEVENT
END:VCALENDAR