BEGIN:VCALENDAR
VERSION:2.0
PRODID:-//Octubre Centre de Cultura Contemporània - ECPv5.1.6//NONSGML v1.0//EN
CALSCALE:GREGORIAN
METHOD:PUBLISH
X-WR-CALNAME:Octubre Centre de Cultura Contemporània
X-ORIGINAL-URL:https://octubre.cat
X-WR-CALDESC:Events for Octubre Centre de Cultura Contemporània
BEGIN:VTIMEZONE
TZID:Europe/Andorra
BEGIN:DAYLIGHT
TZOFFSETFROM:+0100
TZOFFSETTO:+0200
TZNAME:CEST
DTSTART:20230326T010000
END:DAYLIGHT
BEGIN:STANDARD
TZOFFSETFROM:+0200
TZOFFSETTO:+0100
TZNAME:CET
DTSTART:20231029T010000
END:STANDARD
END:VTIMEZONE
BEGIN:VEVENT
DTSTART;TZID=Europe/Andorra:20230609T190000
DTEND;TZID=Europe/Andorra:20230609T190000
DTSTAMP:20260420T125118
CREATED:20230525T090354Z
LAST-MODIFIED:20250710T082344Z
UID:20037-1686337200-1686337200@octubre.cat
SUMMARY:Presentació del llibre Autocar 46: destí Wembley\, de Salva Torres
DESCRIPTION:Amb l’autor acompanyat per Núria Cadenes. \nEl llibre té «la seva pròpia història» ja que és un fet real i està escrit en primera persona. Explica la història de 10 joves valencians que\, el 19 de maig de 1992\, d’autocar en autocar\, decideixen traslladar-se a Londres per viure la final de la Copa d’Europa de futbol. Un d’aquells joves era Guillem Agulló.\nL’autor del llibre va anar prenent apunts del viatge i\, un any després\, amb l’assassinat de Guillem\, va voler retre-li el seu particular homenatge donant forma de relat a aquelles anotacions. Finalment el llibre no es va publicar i el 2022\, el mateix autor rescatava el llibre i l’ampliava afegint-hi al relat original una segona visió des de trenta anys després\, convertint-lo en un debat encobert entre dos autors: el jove innocent i la persona experimentada que ho veu des del pas del temps. El pròleg va a càrrec del periodista escriptor i expresentador de TV Frederic Porta. \n  \n \n(Editorial Base)
URL:https://octubre.cat/activitat/presentacio-del-llibre-autocar-46-desti-wembley-de-salva-torres/
LOCATION:Llibreria Fan Set
CATEGORIES:Literatura
ATTACH;FMTTYPE=image/jpeg:https://octubre.cat/www/wp-content/uploads/2023/05/wembley.jpg
END:VEVENT
END:VCALENDAR