BEGIN:VCALENDAR
VERSION:2.0
PRODID:-//Octubre Centre de Cultura Contemporània - ECPv5.1.6//NONSGML v1.0//EN
CALSCALE:GREGORIAN
METHOD:PUBLISH
X-WR-CALNAME:Octubre Centre de Cultura Contemporània
X-ORIGINAL-URL:https://octubre.cat
X-WR-CALDESC:Events for Octubre Centre de Cultura Contemporània
BEGIN:VTIMEZONE
TZID:Europe/Andorra
BEGIN:DAYLIGHT
TZOFFSETFROM:+0100
TZOFFSETTO:+0200
TZNAME:CEST
DTSTART:20150329T010000
END:DAYLIGHT
BEGIN:STANDARD
TZOFFSETFROM:+0200
TZOFFSETTO:+0100
TZNAME:CET
DTSTART:20151025T010000
END:STANDARD
END:VTIMEZONE
BEGIN:VEVENT
DTSTART;TZID=Europe/Andorra:20151217T190000
DTEND;TZID=Europe/Andorra:20151217T190000
DTSTAMP:20260421T045156
CREATED:20200729T171441Z
LAST-MODIFIED:20200730T041613Z
UID:10413-1450378800-1450378800@octubre.cat
SUMMARY:Presentació del llibre 'Atlàntic'\, de Francesc Mompó
DESCRIPTION:Dijous 17 de desembre a les 19.00h. Amb l’autor i Núria Cadenas\, Joan Femenia i Carles Pastor.  \n  \n  \n\n (Voliana).  La presentació anirà a càrrec de Joan Femenia\, Carles Pastor i Núria Cadenes.  Atlàntic és un llibre que ens obre les portes d’una casa on potser no sabíem que ja havíem viscut. Hi retrobem a cada racó fragments de nosaltres que havíem oblidat\, que semblaven perduts\, com ho fan els grans llibres\, reprenent el fil de quatre autors que van plantar cara a la tradició i que van concebre\, des del desassossec vital i una insaciable necessitat de dir el món d’una manera insòlita\, nous sentits per a la literatura. (Carles Duarte)
URL:https://octubre.cat/activitat/presentacio-del-llibre-atlantic-de-francesc-mompo/
LOCATION:Llibreria 3i4
CATEGORIES:Literatura
ATTACH;FMTTYPE=image/jpeg:https://octubre.cat/www/wp-content/uploads/2020/07/activitat2452.jpg
END:VEVENT
END:VCALENDAR