BEGIN:VCALENDAR
VERSION:2.0
PRODID:-//Octubre Centre de Cultura Contemporània - ECPv5.1.6//NONSGML v1.0//EN
CALSCALE:GREGORIAN
METHOD:PUBLISH
X-WR-CALNAME:Octubre Centre de Cultura Contemporània
X-ORIGINAL-URL:https://octubre.cat
X-WR-CALDESC:Events for Octubre Centre de Cultura Contemporània
BEGIN:VTIMEZONE
TZID:Europe/Andorra
BEGIN:DAYLIGHT
TZOFFSETFROM:+0100
TZOFFSETTO:+0200
TZNAME:CEST
DTSTART:20170326T010000
END:DAYLIGHT
BEGIN:STANDARD
TZOFFSETFROM:+0200
TZOFFSETTO:+0100
TZNAME:CET
DTSTART:20171029T010000
END:STANDARD
END:VTIMEZONE
BEGIN:VEVENT
DTSTART;TZID=Europe/Andorra:20170302T190000
DTEND;TZID=Europe/Andorra:20170302T190000
DTSTAMP:20260421T000057
CREATED:20200729T172426Z
LAST-MODIFIED:20200729T185747Z
UID:11037-1488481200-1488481200@octubre.cat
SUMMARY:Presentació del llibre 'Argelagues'\, de Gemma Ruiz
DESCRIPTION:Dijous 2 de març a les 19.00h i a la llibreria Fan Set.  \n  \n  \n\n (Editorial Proa)  La periodista Gemma Ruiz explica la vida de tres dones de diverses generacions al llarg del segle XX\, entre Castellterçol i Sabadell\, del Vallès rural al Vallès urbà. L’esforç per adaptar-se als efectes de la revolució del tèxtil\, el pas de la vida de pagès a la vida als afores d’una ciutat en procés d’industrialització\, i sobretot els canvis que es produeixen en la vida diària familiar. Els fets i les veus reivindiquen\, per si mateixos\, el paper de la dona en l’evolució de la societat catalana del segle XX. Argelagues és un relat èpic i emotiu sobre aquestes dones i també un homenatge que estava pendent.
URL:https://octubre.cat/activitat/presentacio-del-llibre-argelagues-de-gemma-ruiz/
LOCATION:Llibreria Fan Set
CATEGORIES:Literatura
ATTACH;FMTTYPE=image/jpeg:https://octubre.cat/www/wp-content/uploads/2020/07/activitat2778.jpg
END:VEVENT
END:VCALENDAR