BEGIN:VCALENDAR
VERSION:2.0
PRODID:-//Octubre Centre de Cultura Contemporània - ECPv5.1.6//NONSGML v1.0//EN
CALSCALE:GREGORIAN
METHOD:PUBLISH
X-WR-CALNAME:Octubre Centre de Cultura Contemporània
X-ORIGINAL-URL:https://octubre.cat
X-WR-CALDESC:Events for Octubre Centre de Cultura Contemporània
BEGIN:VTIMEZONE
TZID:Europe/Andorra
BEGIN:DAYLIGHT
TZOFFSETFROM:+0100
TZOFFSETTO:+0200
TZNAME:CEST
DTSTART:20190331T010000
END:DAYLIGHT
BEGIN:STANDARD
TZOFFSETFROM:+0200
TZOFFSETTO:+0100
TZNAME:CET
DTSTART:20191027T010000
END:STANDARD
END:VTIMEZONE
BEGIN:VEVENT
DTSTART;TZID=Europe/Andorra:20190531T190000
DTEND;TZID=Europe/Andorra:20190531T190000
DTSTAMP:20260421T072619
CREATED:20200729T173353Z
LAST-MODIFIED:20200729T191128Z
UID:11422-1559329200-1559329200@octubre.cat
SUMMARY:Presentació del llibre "Anys llum"\, de Josep Porcar
DESCRIPTION:Divendres 31 de maig a les 19.00h. Amb el poeta Antoni Ferrer.	 \n  \n  \n\n 	 XXI Premi Jaume Bru i Vidal de Poesia Ciutat de Sagunt  Amb el poeta Antoni Ferrer.  Anys llum és el vuitè llibre de poemes de Porcar\, qui ja va explicar durant l’entrega del guardó que «és un poemari de corredor de fons\, però també de final d’etapa»\, ja que va estar «covat paral·lelament a dues publicacions precedents\, i aquest tanca el cicle». Tot i que hi ha poemes de la primera dècada del 2000\, l’autor començà a projectar-lo el 2012 –mentre enllestia Llambreig (2013)\, molt abans de Preguntes (2015)– i el va acabar el 2018 –molt després de Nectair (2016). Curiosament\, com si de nines russes es tractara\, també Nectari va ser iniciat abans i acabat després de Preguntes\, de manera que Preguntes dins de Nectari\, i aquest dins d’Anys llum\, componen un joc no lineal de tres matrioixques o\, per dir-ho d’una altra manera\, una mena de ceba de tres capes.  (Onada)
URL:https://octubre.cat/activitat/presentacio-del-llibre-anys-llum-de-josep-porcar/
LOCATION:Llibreria Fan Set
CATEGORIES:Literatura
ATTACH;FMTTYPE=image/png:https://octubre.cat/www/wp-content/uploads/2020/07/activitat3267.png
END:VEVENT
END:VCALENDAR