BEGIN:VCALENDAR
VERSION:2.0
PRODID:-//Octubre Centre de Cultura Contemporània - ECPv5.1.6//NONSGML v1.0//EN
CALSCALE:GREGORIAN
METHOD:PUBLISH
X-WR-CALNAME:Octubre Centre de Cultura Contemporània
X-ORIGINAL-URL:https://octubre.cat
X-WR-CALDESC:Events for Octubre Centre de Cultura Contemporània
BEGIN:VTIMEZONE
TZID:Europe/Andorra
BEGIN:DAYLIGHT
TZOFFSETFROM:+0100
TZOFFSETTO:+0200
TZNAME:CEST
DTSTART:20150329T010000
END:DAYLIGHT
BEGIN:STANDARD
TZOFFSETFROM:+0200
TZOFFSETTO:+0100
TZNAME:CET
DTSTART:20151025T010000
END:STANDARD
END:VTIMEZONE
BEGIN:VEVENT
DTSTART;TZID=Europe/Andorra:20150313T190000
DTEND;TZID=Europe/Andorra:20150313T190000
DTSTAMP:20260421T212701
CREATED:20200729T170931Z
LAST-MODIFIED:20200730T041402Z
UID:10082-1426273200-1426273200@octubre.cat
SUMMARY:Presentació del llibre 'Antoni Porcar'\, de Francesca Vidal
DESCRIPTION:Divendres 13 de març a les 19.00h a la llibreria 3i4 i a càrrec de Nacho Badenes i Ferran Zurriaga  \n  \n  \n\n Antoni Porcar i Candel (1904 – 1947): El mestre que va donar la paraula als infants de Francesca Vidal i Bellés (publicacions de la Universitat Jaume I)  Hi intervindran:  —Natxo Badenes\, secretari Executiu de la Fundació Càtedra Enric Soler i Godes   —Ferran Zurriaga\, mestre —Francesca Vidal\, autora   El llibre explica la història d’Antoni Porcar que va ser precursor\, a primeries del segle XX\, en la introducció de les idees de renovació pedagògica que arribaven d’Europa. El contacte amb els mestres freinetistes del grup Batec de Lleida (1930-1933) li va suposar un dels mestratges més influents en el seu ofici de mestre. Com deia el seu amic Soler i Godes i també els seus alumnes\, era un mestre d’escola de cap a peus\, d’ofici i també de vocació.  Amb la col·laboració de la Càtedra Enric Soler i Godes
URL:https://octubre.cat/activitat/presentacio-del-llibre-antoni-porcar-de-francesca-vidal/
LOCATION:Llibreria 3i4
CATEGORIES:Literatura
ATTACH;FMTTYPE=image/jpeg:https://octubre.cat/www/wp-content/uploads/2020/07/activitat2274.jpg
END:VEVENT
END:VCALENDAR