BEGIN:VCALENDAR
VERSION:2.0
PRODID:-//Octubre Centre de Cultura Contemporània - ECPv5.1.6//NONSGML v1.0//EN
CALSCALE:GREGORIAN
METHOD:PUBLISH
X-WR-CALNAME:Octubre Centre de Cultura Contemporània
X-ORIGINAL-URL:https://octubre.cat
X-WR-CALDESC:Events for Octubre Centre de Cultura Contemporània
BEGIN:VTIMEZONE
TZID:Europe/Andorra
BEGIN:DAYLIGHT
TZOFFSETFROM:+0100
TZOFFSETTO:+0200
TZNAME:CEST
DTSTART:20150329T010000
END:DAYLIGHT
BEGIN:STANDARD
TZOFFSETFROM:+0200
TZOFFSETTO:+0100
TZNAME:CET
DTSTART:20151025T010000
END:STANDARD
END:VTIMEZONE
BEGIN:VEVENT
DTSTART;TZID=Europe/Andorra:20150114T201500
DTEND;TZID=Europe/Andorra:20150114T201500
DTSTAMP:20260422T032726
CREATED:20200729T170831Z
LAST-MODIFIED:20200730T041320Z
UID:10019-1421266500-1421266500@octubre.cat
SUMMARY:Presentació del llibre 'Antoni Miró'\, de Vicent Andrés Estellés
DESCRIPTION:Dimecres 14 de gener a les 20.15h. Amb Vicent Berenguer\, Ferran Carbó i Antoni Miró  \n  \n  \n\n (Editorial Denes)  ATENCIÓ: l’acte ha canviat d’hora i es realitzarà a les 20.15h  Amb Vicent Berenguer\, Ferran Carbó i Antoni Miró  Inèdita fins avui\, Antoni Miró és una obra que aporta un altre singular i divertit exemple de l’Estellés autènticament sorneguer\, irònic i autor de la seua personal farsa\, sorgida de l’últim franquisme\, uns anys intensos i inaugurals pel que fa al descobriment i la popularització d’aquest poeta. A l’entorn del 1973\, data d’aquests textos\, Estellés va recórrer bona part del país i hi va deixar constància de la seua vitalitat en les lectures que va fer acompanyat d’Ovidi Montllor i Toti Soler\, albergats per Antoni Miró diverses vegades\, de la qual cosa és conseqüència aquesta obra.
URL:https://octubre.cat/activitat/presentacio-del-llibre-antoni-miro-de-vicent-andres-estelles/
LOCATION:Llibreria 3i4
CATEGORIES:Literatura
ATTACH;FMTTYPE=image/jpeg:https://octubre.cat/www/wp-content/uploads/2020/07/activitat2216.jpg
END:VEVENT
END:VCALENDAR