BEGIN:VCALENDAR
VERSION:2.0
PRODID:-//Octubre Centre de Cultura Contemporània - ECPv5.1.6//NONSGML v1.0//EN
CALSCALE:GREGORIAN
METHOD:PUBLISH
X-WR-CALNAME:Octubre Centre de Cultura Contemporània
X-ORIGINAL-URL:https://octubre.cat
X-WR-CALDESC:Events for Octubre Centre de Cultura Contemporània
BEGIN:VTIMEZONE
TZID:Europe/Andorra
BEGIN:DAYLIGHT
TZOFFSETFROM:+0100
TZOFFSETTO:+0200
TZNAME:CEST
DTSTART:20190331T010000
END:DAYLIGHT
BEGIN:STANDARD
TZOFFSETFROM:+0200
TZOFFSETTO:+0100
TZNAME:CET
DTSTART:20191027T010000
END:STANDARD
END:VTIMEZONE
BEGIN:VEVENT
DTSTART;TZID=Europe/Andorra:20191129T190000
DTEND;TZID=Europe/Andorra:20191129T190000
DTSTAMP:20260423T020001
CREATED:20200729T173630Z
LAST-MODIFIED:20200729T191306Z
UID:11604-1575054000-1575054000@octubre.cat
SUMMARY:Presentació del llibre "Antoni M. Alcover i les dones"\, de M. Magdalena Gelabert
DESCRIPTION:Divendres 29 de novembre a les 19.00h. Amb l’autora acompanyada per Bàrbara Duran Bordoy.	 \n  \n  \n\n 	 Premi Mallorca d’Assaig 2018. La presentació anirà a càrrec de la Dra. Bàrbara Duran Bordoy  El model social i el poder de les dones que dibuixa Antoni M. Alcover a l’Aplec de Rondaies Mallorquines.  (Documenta Balear)
URL:https://octubre.cat/activitat/presentacio-del-llibre-antoni-m-alcover-i-les-dones-de-m-magdalena-gelabert/
LOCATION:Llibreria Fan Set
CATEGORIES:Literatura
ATTACH;FMTTYPE=image/jpeg:https://octubre.cat/www/wp-content/uploads/2020/07/activitat3390.jpg
END:VEVENT
END:VCALENDAR