BEGIN:VCALENDAR
VERSION:2.0
PRODID:-//Octubre Centre de Cultura Contemporània - ECPv5.1.6//NONSGML v1.0//EN
CALSCALE:GREGORIAN
METHOD:PUBLISH
X-WR-CALNAME:Octubre Centre de Cultura Contemporània
X-ORIGINAL-URL:https://octubre.cat
X-WR-CALDESC:Events for Octubre Centre de Cultura Contemporània
BEGIN:VTIMEZONE
TZID:Europe/Andorra
BEGIN:DAYLIGHT
TZOFFSETFROM:+0100
TZOFFSETTO:+0200
TZNAME:CEST
DTSTART:20140330T010000
END:DAYLIGHT
BEGIN:STANDARD
TZOFFSETFROM:+0200
TZOFFSETTO:+0100
TZNAME:CET
DTSTART:20141026T010000
END:STANDARD
END:VTIMEZONE
BEGIN:VEVENT
DTSTART;TZID=Europe/Andorra:20141112T190000
DTEND;TZID=Europe/Andorra:20141112T190000
DTSTAMP:20260421T054651
CREATED:20200729T170724Z
LAST-MODIFIED:20200730T041245Z
UID:9946-1415818800-1415818800@octubre.cat
SUMMARY:Presentació del llibre 'Àncora del temps'\, de Joan Borja
DESCRIPTION:Dimecres 12 de novembre a les 19.00h\, amb l’autor i Vicent Salvador  \n  \n  \n\n Antologia de dietaris actuals (Edicions 3i4)  La presentació anirà a càrrec del professor Vicent Salvador  Joan Borja i Sanz és mestre per l’especialitat de Ciències\, llicenciat en Filosofia i Lletres i doctor en Filologia. Ha publicat més d’una vintena de llibres\, entre els quals destaquen títols com Comunicar la ciència\, Els aforismes de Joan Fuster\, Valencià mitjà\, Meleagre\, La utopia de la ciència\, Llegendes del sud\, Café del temps\, Els discursos de la ciència o El color de les quimeres. Ha estat director de la Seu Universitària de la Marina\, de la Unitat per a l’Educació Multilingüe i del Departament de Filologia Catalana de la Universitat d’Alacant. Actualment dirigeix i presenta el programa de ràdio “Café Montcau”\, i l’anuari científic Ítaca. Revista de Filologia.
URL:https://octubre.cat/activitat/presentacio-del-llibre-ancora-del-temps-de-joan-borja/
LOCATION:Llibreria 3i4
CATEGORIES:Literatura
ATTACH;FMTTYPE=image/jpeg:https://octubre.cat/www/wp-content/uploads/2020/07/activitat2172.jpg
END:VEVENT
END:VCALENDAR