BEGIN:VCALENDAR
VERSION:2.0
PRODID:-//Octubre Centre de Cultura Contemporània - ECPv5.1.6//NONSGML v1.0//EN
CALSCALE:GREGORIAN
METHOD:PUBLISH
X-WR-CALNAME:Octubre Centre de Cultura Contemporània
X-ORIGINAL-URL:https://octubre.cat
X-WR-CALDESC:Events for Octubre Centre de Cultura Contemporània
BEGIN:VTIMEZONE
TZID:Europe/Andorra
BEGIN:DAYLIGHT
TZOFFSETFROM:+0100
TZOFFSETTO:+0200
TZNAME:CEST
DTSTART:20160327T010000
END:DAYLIGHT
BEGIN:STANDARD
TZOFFSETFROM:+0200
TZOFFSETTO:+0100
TZNAME:CET
DTSTART:20161030T010000
END:STANDARD
END:VTIMEZONE
BEGIN:VEVENT
DTSTART;TZID=Europe/Andorra:20160928T190000
DTEND;TZID=Europe/Andorra:20160928T190000
DTSTAMP:20260421T153619
CREATED:20200729T172018Z
LAST-MODIFIED:20200729T185555Z
UID:10773-1475089200-1475089200@octubre.cat
SUMMARY:Presentació del llibre 'Amb molt de gust'\, de Joan Tudela
DESCRIPTION:Dimecres 28 de setembre a les 19.00h. Amb l’autor i Eugeni S. Reig.  \n  \n  \n\n (Voliaina)  La presentació anirà a càrrec d’Eugeni S. Reig.  “Aquest llibre és una arquitectura basada en el número 4 per la senzilla raó que tota la meva vida és una arquitectura basada en el número 4: vaig obrir els ulls a la llum d’aquest món de mones que ens ha tocat de viure el dia 4 del mes 4 d’un any acabat en 4 i etcètera.  A l’estructura del llibre\, tot són o quatres o múltiples o divisors de quatre. L’obra aplega vint-i-vuit narracions breus i dues de llargues. Els capítols reuneixen o dos contes o quatre o vuit. Les narracions llargues es divideixen en dues parts o en quatre. La primera paraula del primer conte del recull és setze\, que com tothom sap vol dir quatre per quatre. Fora d’això\, la meva salut psicològica és força normal.”  (Del prefaci de Joan Tudela)
URL:https://octubre.cat/activitat/presentacio-del-llibre-amb-molt-de-gust-de-joan-tudela/
LOCATION:Llibreria 3i4
CATEGORIES:Literatura
ATTACH;FMTTYPE=image/jpeg:https://octubre.cat/www/wp-content/uploads/2020/07/activitat2639.jpg
END:VEVENT
END:VCALENDAR