BEGIN:VCALENDAR
VERSION:2.0
PRODID:-//Octubre Centre de Cultura Contemporània - ECPv5.1.6//NONSGML v1.0//EN
CALSCALE:GREGORIAN
METHOD:PUBLISH
X-WR-CALNAME:Octubre Centre de Cultura Contemporània
X-ORIGINAL-URL:https://octubre.cat
X-WR-CALDESC:Events for Octubre Centre de Cultura Contemporània
BEGIN:VTIMEZONE
TZID:Europe/Andorra
BEGIN:DAYLIGHT
TZOFFSETFROM:+0100
TZOFFSETTO:+0200
TZNAME:CEST
DTSTART:20150329T010000
END:DAYLIGHT
BEGIN:STANDARD
TZOFFSETFROM:+0200
TZOFFSETTO:+0100
TZNAME:CET
DTSTART:20151025T010000
END:STANDARD
END:VTIMEZONE
BEGIN:VEVENT
DTSTART;TZID=Europe/Andorra:20150923T190000
DTEND;TZID=Europe/Andorra:20150923T190000
DTSTAMP:20260423T213756
CREATED:20200729T171220Z
LAST-MODIFIED:20200730T041513Z
UID:10263-1443034800-1443034800@octubre.cat
SUMMARY:Presentació del llibre 'Alfabet del desig'\, de Francesc Rodrigo
DESCRIPTION:Dimecres 23 de setembre a les 19.00h. Premi Vicent Andrés Estellés de Poesia de Burjassot. Amb l’autor i Manel Rodríguez Castelló.  \n  \n  \n\n Premi Vicent Andrés Estellés de Burjassot 2015 (Edicions Bromera).  Presentació a cura de Manel Rodríguez Castelló.  Una obra lleugera\, que s’inscriu en un estil de poesia urbana contemporània\, amb constants referents a la naturalesa\, a través d’elements com l’aigua i la terra\, al sentit de la vida i a l’absència d’aquests elements primaris en un aparent camí incert d’enyorança del propi origen.   Francesc Rodrigo (Mislata\, 1964) és professor de secundària de Llengua i Literatura Catalana i Castellana. Entre els seus poemaris es poden destacar Àmfores de foc\, guardonat amb el Ciutat d’Elx de Poesia; Foc pàl·lid\, Premi Benvingut Oliver de Catarroja\, i Navegacions\, Premi Manuel Rodríguez Martínez d’Alcoi.
URL:https://octubre.cat/activitat/presentacio-del-llibre-alfabet-del-desig-de-francesc-rodrigo/
LOCATION:Llibreria 3i4
CATEGORIES:Literatura
ATTACH;FMTTYPE=image/jpeg:https://octubre.cat/www/wp-content/uploads/2020/07/activitat2370.jpg
END:VEVENT
END:VCALENDAR