BEGIN:VCALENDAR
VERSION:2.0
PRODID:-//Octubre Centre de Cultura Contemporània - ECPv5.1.6//NONSGML v1.0//EN
CALSCALE:GREGORIAN
METHOD:PUBLISH
X-WR-CALNAME:Octubre Centre de Cultura Contemporània
X-ORIGINAL-URL:https://octubre.cat
X-WR-CALDESC:Events for Octubre Centre de Cultura Contemporània
BEGIN:VTIMEZONE
TZID:Europe/Andorra
BEGIN:DAYLIGHT
TZOFFSETFROM:+0100
TZOFFSETTO:+0200
TZNAME:CEST
DTSTART:20160327T010000
END:DAYLIGHT
BEGIN:STANDARD
TZOFFSETFROM:+0200
TZOFFSETTO:+0100
TZNAME:CET
DTSTART:20161030T010000
END:STANDARD
END:VTIMEZONE
BEGIN:VEVENT
DTSTART;TZID=Europe/Andorra:20160113T190000
DTEND;TZID=Europe/Andorra:20160113T190000
DTSTAMP:20260421T072415
CREATED:20200729T171518Z
LAST-MODIFIED:20200730T041628Z
UID:10452-1452711600-1452711600@octubre.cat
SUMMARY:Presentació del llibre 'Alè de lluna'\, de Pura Peris
DESCRIPTION:Dimecres 13 de gener a les 19.00h\, a la llibreria 3i4.  \n  \n  \n\n (Neopàtria).  A càrrec d’Antoni Ferrer i Perales. Ens acompayaran amb les seues veus Joan Femenia\, Esther Villanueva i l’actor Pau Esteve. A la guitarra espanyola Piotr Krwacick.  Alè de lluna conté dos reculls poètics: el que dóna nom a l’obra són poemes dels dos últims anys i on\, conjugant les fases lluneres\, es parla del desig i les emocions que\, com la lluna\, creixen i minven al llarg del temps… La segona part\, «Ones sobre la mar»\, és un recull de les primeres poesies de l’autora i que com a recull poètic va rebre el guardó de finalista en la XXI edició dels Premis 9 d’Octubre de creació literària en valencià de l’Ajuntament de Sant Vicent del Raspeig\, qui generosament ha cedit el permís perquè puga ser inclòs en aquesta obra.
URL:https://octubre.cat/activitat/presentacio-del-llibre-ale-de-lluna-de-pura-peris/
LOCATION:Llibreria 3i4
CATEGORIES:Literatura
ATTACH;FMTTYPE=image/jpeg:https://octubre.cat/www/wp-content/uploads/2020/07/activitat2471.jpg
END:VEVENT
END:VCALENDAR