BEGIN:VCALENDAR
VERSION:2.0
PRODID:-//Octubre Centre de Cultura Contemporània - ECPv5.1.6//NONSGML v1.0//EN
CALSCALE:GREGORIAN
METHOD:PUBLISH
X-WR-CALNAME:Octubre Centre de Cultura Contemporània
X-ORIGINAL-URL:https://octubre.cat
X-WR-CALDESC:Events for Octubre Centre de Cultura Contemporània
BEGIN:VTIMEZONE
TZID:Europe/Andorra
BEGIN:DAYLIGHT
TZOFFSETFROM:+0100
TZOFFSETTO:+0200
TZNAME:CEST
DTSTART:20190331T010000
END:DAYLIGHT
BEGIN:STANDARD
TZOFFSETFROM:+0200
TZOFFSETTO:+0100
TZNAME:CET
DTSTART:20191027T010000
END:STANDARD
END:VTIMEZONE
BEGIN:VEVENT
DTSTART;TZID=Europe/Andorra:20190402T190000
DTEND;TZID=Europe/Andorra:20190402T190000
DTSTAMP:20260421T045155
CREATED:20200729T173332Z
LAST-MODIFIED:20200729T191109Z
UID:11399-1554231600-1554231600@octubre.cat
SUMMARY:Presentació del llibre "Albuferenc"\, de Berna Blanch
DESCRIPTION:Dimarts 2 d’abril a les 19.00h. Amb l’autor acompanyat per Ramon Guillem.	 \n  \n  \n\n 	 Amb l’autor acompanyat per Ramon Guillem. Lectura poètica a càrrec de Maria Carme Arnau\, Wilfredo Baixauli\, Berna Blanch i Mercè Claramunt.   A Catarroja i els pobles que volten el llac tenim la immensa sort de tindre un paradís dins de casa\, un gran brollador d’arrels pròpies i de cultura. Parlem de les nostres marjals\, i de l’Albufera i de totes les coses relacionades amb ells\, des de l’ofici del pescador\, al caçador o a l’arrosser. Parlem dels seus meravellosos racons i paisatges\, de les seues sèquies\, dels motors\, de les barques\, de la vela\, dels camps\, de les motes\, del mornell\, del samaruc\, de la garsa o la fotja\, del gamber i el palangre o dels nostres arrossos i el perol de l’all i pebre.  (El Petit Editor)
URL:https://octubre.cat/activitat/presentacio-del-llibre-albuferenc-de-berna-blanch/
LOCATION:Llibreria Fan Set
CATEGORIES:Literatura
ATTACH;FMTTYPE=image/jpeg:https://octubre.cat/www/wp-content/uploads/2020/07/activitat3243.jpg
END:VEVENT
END:VCALENDAR