BEGIN:VCALENDAR
VERSION:2.0
PRODID:-//Octubre Centre de Cultura Contemporània - ECPv5.1.6//NONSGML v1.0//EN
CALSCALE:GREGORIAN
METHOD:PUBLISH
X-WR-CALNAME:Octubre Centre de Cultura Contemporània
X-ORIGINAL-URL:https://octubre.cat
X-WR-CALDESC:Events for Octubre Centre de Cultura Contemporània
BEGIN:VTIMEZONE
TZID:Europe/Andorra
BEGIN:DAYLIGHT
TZOFFSETFROM:+0100
TZOFFSETTO:+0200
TZNAME:CEST
DTSTART:20150329T010000
END:DAYLIGHT
BEGIN:STANDARD
TZOFFSETFROM:+0200
TZOFFSETTO:+0100
TZNAME:CET
DTSTART:20151025T010000
END:STANDARD
END:VTIMEZONE
BEGIN:VEVENT
DTSTART;TZID=Europe/Andorra:20150917T190000
DTEND;TZID=Europe/Andorra:20150917T190000
DTSTAMP:20260423T223457
CREATED:20200729T171212Z
LAST-MODIFIED:20200730T041511Z
UID:10255-1442516400-1442516400@octubre.cat
SUMMARY:Presentació del llibre 'Al-Azraq el Blau'\, de Just I. Sellés
DESCRIPTION:Dijous 17 de setembre a les 19.00h. Crònica de la conquesta de la Muntanya. Amb l’autor\, Ximo Andrés i Joan Femenia.  \n  \n  \n\n Crònica de la conquesta de la Muntanya.  (edicions Círculo Rojo)  A càrrec de l’autor i Ximo Andrés Crespo (filòleg. Jurat del premis Malvarrosa\, secció de literatura catalana del premis València) El rapsode Joan Femenia recitarà alguns poemes andalusins.  Mitjan el segle XIII\, les valls més septentrionals de la muntanya alacantina eren un vesper\, una illa d’Islam rodejada per un embravit mar de cristianisme. Els feudals anhelaven sotmetre-la\, però La Muntanya era un castell de roca\, alt i fort\, i resistia. Foren anys de pactes breus\, de fortaleses preses i lliurades per la força\, de treves\, emboscades i escaramusses entre les hosts de Jaume I i els partidaris del visir al-Azraq\, el Blau. Huit segles després\, la gloriosa conquesta del Regne de València que les cròniques medievals beneïren amb el fum dels altars ha esdevingut\, a la llum de la historiografia recent\, el brutal extermini d’una cultura. Així\, la mateixa crònica règia que antany aprofità per enaltir la insigne figura del Conqueridor es presenta ara com la prova irrefutable de la seua feroç croada. Amb el propòsit de reinterpretar la invasió feudal d’al-Àndalus oriental\, Al-Azraq\, el Blau enarbora l’estendard de la mitja lluna i concedeix la paraula a Abu al-Qasim ben Hilal –conseller personal del visir– perquè el relat fluïsca en primera persona\, lliure\, directe\, visceral\, per boca de qui patí en les seues carns el rigor de l’holocaust andalusí de Jaume I. La croada valenciana del Tirà com mai no te l’han contada.
URL:https://octubre.cat/activitat/presentacio-del-llibre-al-azraq-el-blau-de-just-i-selles/
LOCATION:Llibreria 3i4
CATEGORIES:Literatura
ATTACH;FMTTYPE=image/jpeg:https://octubre.cat/www/wp-content/uploads/2020/07/activitat2367.jpg
END:VEVENT
END:VCALENDAR