BEGIN:VCALENDAR
VERSION:2.0
PRODID:-//Octubre Centre de Cultura Contemporània - ECPv5.1.6//NONSGML v1.0//EN
CALSCALE:GREGORIAN
METHOD:PUBLISH
X-WR-CALNAME:Octubre Centre de Cultura Contemporània
X-ORIGINAL-URL:https://octubre.cat
X-WR-CALDESC:Events for Octubre Centre de Cultura Contemporània
BEGIN:VTIMEZONE
TZID:Europe/Andorra
BEGIN:DAYLIGHT
TZOFFSETFROM:+0100
TZOFFSETTO:+0200
TZNAME:CEST
DTSTART:20160327T010000
END:DAYLIGHT
BEGIN:STANDARD
TZOFFSETFROM:+0200
TZOFFSETTO:+0100
TZNAME:CET
DTSTART:20161030T010000
END:STANDARD
END:VTIMEZONE
BEGIN:VEVENT
DTSTART;TZID=Europe/Andorra:20161006T190000
DTEND;TZID=Europe/Andorra:20161006T190000
DTSTAMP:20260421T145927
CREATED:20200729T172036Z
LAST-MODIFIED:20200729T185603Z
UID:10792-1475780400-1475780400@octubre.cat
SUMMARY:Presentació del llibre 'Al-Azraq'\, de Josep-David Garrido
DESCRIPTION:Dijous 6 d’octubre a les 19.00h.  \n  \n  \n\n Al-Azraq. El cabdill andalusí que desafià Jaume I (Editorial Denes)  Abū ‘Abd Al·lāh Muhammad ibn Hudhayl\, el senyor del castell d’Alcalà\, més conegut com al-Azraq («el Blau»)\, fou l’últim gran cabdill dels valencians andalusins\, dels valencians que parlaven algaravia\, i una fi gura històrica esdevinguda mítica després de la seua mort davant dels murs d’Alcoi un dia a la fi d’abril o començaments de maig de 1276.
URL:https://octubre.cat/activitat/presentacio-del-llibre-al-azraq-de-josep-david-garrido/
LOCATION:Llibreria 3i4
CATEGORIES:Literatura
ATTACH;FMTTYPE=image/jpeg:https://octubre.cat/www/wp-content/uploads/2020/07/activitat2648.jpg
END:VEVENT
END:VCALENDAR