BEGIN:VCALENDAR
VERSION:2.0
PRODID:-//Octubre Centre de Cultura Contemporània - ECPv5.1.6//NONSGML v1.0//EN
CALSCALE:GREGORIAN
METHOD:PUBLISH
X-WR-CALNAME:Octubre Centre de Cultura Contemporània
X-ORIGINAL-URL:https://octubre.cat
X-WR-CALDESC:Events for Octubre Centre de Cultura Contemporània
BEGIN:VTIMEZONE
TZID:Europe/Andorra
BEGIN:DAYLIGHT
TZOFFSETFROM:+0100
TZOFFSETTO:+0200
TZNAME:CEST
DTSTART:20120325T010000
END:DAYLIGHT
BEGIN:STANDARD
TZOFFSETFROM:+0200
TZOFFSETTO:+0100
TZNAME:CET
DTSTART:20121028T010000
END:STANDARD
END:VTIMEZONE
BEGIN:VEVENT
DTSTART;TZID=Europe/Andorra:20120621T190000
DTEND;TZID=Europe/Andorra:20120621T190000
DTSTAMP:20260422T082417
CREATED:20200729T165802Z
LAST-MODIFIED:20200729T183902Z
UID:9387-1340305200-1340305200@octubre.cat
SUMMARY:Presentació del llibre 'Ai'\, de Rubén Luzón
DESCRIPTION:Dijous 21 de juny a les 19.00h: presentació del llibre ‘Ai’\, de Rubén Luzón\, guanyador del XIII Premi de Poesia Vicent Andrés Estellés de Burjassot  \n  \n  \n\nXIII Premi de Poesia Vicent Andrés Estellés de Burjassot  Amb la participació del poeta Joan Navarro i de l’autor  Rubén Luzón (València\, 1982) és llicenciat en Filologia Catalana i llicenciat en Filologia Hispànica per la Universitat de València. Ha escrit treballs i articles d’investigació per a diverses publicacions\, així com ressenyes i textos variats de crítica literària. La seua trajectòria poètica va arrancar amb Cames ajudeu-me (Denes\, 2005)\, obra guanyadora del IV Certamen César Simón de Poesia. El seu segon llibre\, Baladaspirina (Edicions 62\, 2008)\, va obtenir el XLVI Premi de Poesia Ausiàs March de Gandia. Amb el seu tercer poemari\, Ai (Bromera\, 2012)\, ha guanyat el Premi Vicent Andrés Estellés de Poesia de Burjassot 2011. Ha estat inclòs en un parell d’antologies: Pedra foguera. Antologia de poesia jove dels Països Catalans (Documenta Balear\, 2008) i Tibar l’arc. Una mirada a la poesia valenciana actual (Tria Llibres\, 2012). Recentment ha participat amb sis poemes en el número 100 de la revista Reduccions.
URL:https://octubre.cat/activitat/presentacio-del-llibre-ai-de-ruben-luzon/
LOCATION:No definit
CATEGORIES:Literatura
ATTACH;FMTTYPE=image/jpeg:https://octubre.cat/www/wp-content/uploads/2020/07/activitat1630.jpg
END:VEVENT
END:VCALENDAR